BEGIN:VCALENDAR
VERSION:2.0
PRODID:-//ChamberMaster//Event Calendar 2.0//EN
METHOD:PUBLISH
X-PUBLISHED-TTL:P3D
REFRESH-INTERVAL:P3D
CALSCALE:GREGORIAN
BEGIN:VEVENT
DTSTART;VALUE=DATE:20170814
DTEND;VALUE=DATE:20170819
TRANSP:TRANSPARENT
X-MICROSOFT-CDO-ALLDAYEVENT:TRUE
SUMMARY:Sam's Club Business Focus
DESCRIPTION:Sam's Club representatives will come to your business to speak with you one on one about your business needs\, the value of  membership and answer any questions that you may have. \n\n\n\nOwners / Operators of Hotels\, Restaurants\, Beauty Salons and other retail operations are eligible. \n\nHome-based/ Personal\, Franchisee or Independent Direct Selling are qualified businesses. \n\n\n\nThe benefit of a Sam's Club Business will allow you to shop for both personal and business needs with one card convenience.
X-ALT-DESC;FMTTYPE=text/html:Sam&#39\;s Club representatives will come to your business to speak with you one on one about your business needs\, the value of &nbsp\;membership and answer any questions that you may have.&nbsp\;<br />\n<br />\nOwners / Operators of Hotels\, Restaurants\, Beauty Salons and other retail operations are eligible.&nbsp\;<br />\nHome-based/ Personal\, Franchisee or Independent Direct Selling are qualified businesses.&nbsp\;<br />\n<br />\nThe benefit of a Sam&#39\;s Club Business will allow you to shop for both personal and business needs with one card convenience.&nbsp\;<br />\n<br />\n<br />\n&nbsp\;
LOCATION:Pitt county and all surrounding areas
UID:e.840.8637
SEQUENCE:3
DTSTAMP:20260423T104350Z
URL:https://business.greenvillenc.org/events/details/sam-s-club-business-focus-8637
END:VEVENT

END:VCALENDAR
