BEGIN:VCALENDAR
VERSION:2.0
PRODID:-//ChamberMaster//Event Calendar 2.0//EN
METHOD:PUBLISH
X-PUBLISHED-TTL:P3D
REFRESH-INTERVAL:P3D
CALSCALE:GREGORIAN
BEGIN:VEVENT
DTSTART:20170401T000000Z
DTEND:20170401T014500Z
X-MICROSOFT-CDO-ALLDAYEVENT:FALSE
SUMMARY:Russian National Ballet Theatre: Gala Performance
DESCRIPTION:ECU's S. Rudolph Alexander Performing Arts Series presents the greatest "hits" of the Russian ballet tradition. In 1994\, the legendary Bolshoi principal dancer Elena Radchenko was selected by presidential decree to assume the permanent artistic directorship of the Russian National Ballet Theatre. She has upheld the grand national tradition of the Russian ballet. Enjoy "Stars of the Russian Ballet\," a gala program featuring ten excerpts including selections from Tchaikovsky's Sleeping Beauty and Romeo and Juliet\, Prokofiev's Cinderella\, and perhaps the most famous solo dance ever\, "the Dying Swan." Individual tickets for this event are available on February 17. Sign up for an alert and special offers on our website.
X-ALT-DESC;FMTTYPE=text/html:<span style="font-family:gotham\; font-size:8.5px">ECU&#39\;s S. Rudolph Alexander Performing Arts Series presents the greatest &quot\;hits&quot\; of the Russian ballet tradition. In 1994\, the legendary Bolshoi principal dancer Elena Radchenko was selected by presidential decree to assume the permanent artistic directorship of the Russian National Ballet Theatre. She has upheld the grand national tradition of the Russian ballet. Enjoy &ldquo\;Stars of the Russian Ballet\,&rdquo\; a gala program featuring ten excerpts including selections from Tchaikovsky&rsquo\;s <em>Sleeping Beauty and Romeo and Juliet</em>\,&nbsp\;</span><span style="font-family:gotham\; font-size:8.5px">Prokofiev&rsquo\;s <em>Cinderella</em>\,&nbsp\;and perhaps the most famous solo dance ever\, &ldquo\;the Dying Swan.&rdquo\;&nbsp\;</span><span style="font-family:gotham\; font-size:9px">Individual tickets for this event are available on February 17. Sign up for an alert and special offers on our website.&nbsp\;</span>
LOCATION:ECU's Wright Auditorium
UID:e.840.2679
SEQUENCE:3
DTSTAMP:20260423T200649Z
URL:https://business.greenvillenc.org/events/details/russian-national-ballet-theatre-gala-performance-03-31-2017-2679
END:VEVENT

END:VCALENDAR
