BEGIN:VCALENDAR
VERSION:2.0
PRODID:-//ChamberMaster//Event Calendar 2.0//EN
METHOD:PUBLISH
X-PUBLISHED-TTL:P3D
REFRESH-INTERVAL:P3D
CALSCALE:GREGORIAN
BEGIN:VEVENT
DTSTART;VALUE=DATE:20200514
DTEND;VALUE=DATE:20200622
TRANSP:TRANSPARENT
X-MICROSOFT-CDO-ALLDAYEVENT:TRUE
SUMMARY:Running with Riley's Army virtual 5K\, 2020
DESCRIPTION:https://www.facebook.com/events/696446621167074/?hc_location=ufi\n\n\n\nYou can support our mission from ANYWHERE you are!  Our first virtual 5k event is sure to be fantastic.  You can register on the link on our Facebook page or on the Riley's Army website at http://www.rileysarmy.com
X-ALT-DESC;FMTTYPE=text/html:<a href="https://www.facebook.com/events/696446621167074/?hc_location=ufi">https://www.facebook.com/events/696446621167074/?hc_location=ufi</a><br />\n<br />\nYou can support our mission from ANYWHERE you are!&nbsp\; Our first virtual 5k event is sure to be fantastic.&nbsp\; You can register on the link on our Facebook page or on the Riley&#39\;s Army website at&nbsp\;<a href="http://www.rileysarmy.com">http://www.rileysarmy.com</a>
LOCATION:Right where you are!
UID:e.840.11422
SEQUENCE:3
DTSTAMP:20260419T205145Z
URL:https://business.greenvillenc.org/events/details/running-with-riley-s-army-virtual-5k-2020-11422
END:VEVENT

END:VCALENDAR
