BEGIN:VCALENDAR
VERSION:2.0
PRODID:-//ChamberMaster//Event Calendar 2.0//EN
METHOD:PUBLISH
X-PUBLISHED-TTL:P3D
REFRESH-INTERVAL:P3D
CALSCALE:GREGORIAN
BEGIN:VEVENT
DTSTART:20200329T180000Z
DTEND:20200329T200000Z
X-MICROSOFT-CDO-ALLDAYEVENT:FALSE
SUMMARY:Run for the Ribbons 5k
DESCRIPTION:Join us for the 4th Annual Run for the Ribbons through the gorgeous Lynndale neighborhood in the heart of Greenville.  All proceeds benefit patients and families affected by cancer in Eastern North Carolina.
X-ALT-DESC;FMTTYPE=text/html:Join us for the 4th Annual Run for the Ribbons through the gorgeous Lynndale neighborhood in the heart of Greenville.&nbsp\; All proceeds benefit patients and families affected by cancer in Eastern North Carolina.
LOCATION:Village Point Market\, 620 Red Banks Road\, Greenville\, NC 27858
UID:e.840.10983
SEQUENCE:3
DTSTAMP:20260420T015117Z
URL:https://business.greenvillenc.org/events/details/run-for-the-ribbons-5k-10983
END:VEVENT

END:VCALENDAR
