BEGIN:VCALENDAR
VERSION:2.0
PRODID:-//ChamberMaster//Event Calendar 2.0//EN
METHOD:PUBLISH
X-PUBLISHED-TTL:P3D
REFRESH-INTERVAL:P3D
CALSCALE:GREGORIAN
BEGIN:VEVENT
DTSTART:20170317T230000Z
DTEND:20170318T000000Z
X-MICROSOFT-CDO-ALLDAYEVENT:FALSE
SUMMARY:Rudyard Kipling's Just So Stories
DESCRIPTION:ECU's Family Fare series presents Rudyard Kipling's Just So Stories. One of the world's greatest storytellers weaves together an unforgettable collection of animal tales\, including how the camel got its hump\, how the leopard got its spots\, how the alphabet was made and how even a butterfly stamping his leg can change a man's life. A timeless classic brought to the stage by ECU Storybook Theatre. Cheaper than the movies\, they're a great way to introduce elementary-aged children to the splendour of live theatre.
X-ALT-DESC;FMTTYPE=text/html:<span style="font-family:arial\,helvetica neue\,helvetica\,sans-serif">ECU&#39\;s Family Fare series presents&nbsp\;</span><em>Rudyard Kipling&#39\;s Just So Stories</em><span style="font-family:arial\,helvetica neue\,helvetica\,sans-serif">. One of the world&#39\;s greatest storytellers weaves together an unforgettable collection of animal tales\, including how the camel got its hump\, how the leopard got its spots\, how the alphabet was made and how even a butterfly stamping his leg can change a man&#39\;s life. A timeless classic brought to the stage by ECU Storybook Theatre.&nbsp\;Cheaper than the movies\, they&#39\;re a great way to introduce elementary-aged children to the splendour of live theatre.</span>
LOCATION:ECU's Wright Auditorium
UID:e.840.2685
SEQUENCE:3
DTSTAMP:20260423T181835Z
URL:https://business.greenvillenc.org/events/details/rudyard-kipling-s-just-so-stories-03-17-2017-2685
END:VEVENT

END:VCALENDAR
