BEGIN:VCALENDAR
VERSION:2.0
PRODID:-//ChamberMaster//Event Calendar 2.0//EN
METHOD:PUBLISH
X-PUBLISHED-TTL:P3D
REFRESH-INTERVAL:P3D
CALSCALE:GREGORIAN
BEGIN:VEVENT
DTSTART:20170307T163000Z
DTEND:20170307T183000Z
X-MICROSOFT-CDO-ALLDAYEVENT:FALSE
SUMMARY:Round Table - Networking Not Net-Standing Around
DESCRIPTION:Bring your lunch and join other entrepreneurs and small business owners!\nTrade shows\, expos and networking events can be excellent ways to attract business if you understand that they are netWORKing events. They are not net-eating\, net-visiting\, net-standing-around-waiting-for-someone-to-talk-to-you-events. Shows and exhibits can be a terrible waste of time and money if you do not create a workable plan and execute it. Come learn how to determine your networking mission\, integrate networking with your ongoing marketing\, create the most effective type of booth and exhibit\, turn trade show contacts into sales\, recognize the suspects from the prospects\, follow-up after the event\, and so much more! Guest Speaker: Mike Collins
X-ALT-DESC;FMTTYPE=text/html:Bring your lunch and join other entrepreneurs and small business owners!\n<p>Trade shows\, expos and networking events can be excellent ways to attract business&hellip\;if you understand that they are netWORKing events. They are not net-eating\, net-visiting\, net-standing-around-waiting-for-someone-to-talk-to-you-events. Shows and exhibits can be a terrible waste of time and money if you do not create a workable plan and execute it. Come learn how to determine your networking mission\, integrate networking with your ongoing marketing\, create the most effective type of booth and exhibit\, turn trade show contacts into sales\, recognize the suspects from the prospects\, follow-up after the event\, and so much more! Guest Speaker: Mike Collins</p>\n
LOCATION:PCC Greenville Center - 3107 S. Memorial Drive
UID:e.840.8061
SEQUENCE:3
DTSTAMP:20260423T193106Z
URL:https://business.greenvillenc.org/events/details/round-table-networking-not-net-standing-around-8061
END:VEVENT

END:VCALENDAR
