BEGIN:VCALENDAR
VERSION:2.0
PRODID:-//ChamberMaster//Event Calendar 2.0//EN
METHOD:PUBLISH
X-PUBLISHED-TTL:P3D
REFRESH-INTERVAL:P3D
CALSCALE:GREGORIAN
BEGIN:VEVENT
DTSTART:20160621T153000Z
DTEND:20160621T173000Z
X-MICROSOFT-CDO-ALLDAYEVENT:FALSE
SUMMARY:Round Table Discussion - Make Sure Your Business is on Google Maps
DESCRIPTION:Bring your lunch and join other entrepreneurs and small business owners for a free Small Business Center Round Table Discussion. This month's topic is Make Sure Your Business is on Google Maps and our guest speaker will be Jeanne Eury\, Director of Member Services for the NC Retail Merchants Association. Businesses that have complete information online are more than twice as likely to be considered reputable by consumers. In this session\, we will help you: review business information currently appearing on Google Search\; claim and verify you as the contact person for your business\; populate and/or correct your information\; discover FREE business tools from Google\; and implement easy strategies designed to increase visibility and customer reach. \n\n\n\nFor more information call 252-493-7528 or register online at: https://www.ncsbc.net/workshop.aspx?ekey=380360062.
X-ALT-DESC;FMTTYPE=text/html:<p>Bring your lunch and join other entrepreneurs and small business owners for a free Small Business Center Round Table Discussion. This month&#39\;s topic is Make Sure Your Business is on Google Maps and our guest speaker will be Jeanne Eury\, Director of Member Services for the NC Retail Merchants Association. Businesses that have complete information online are more than twice as likely to be considered reputable by consumers. In this session\, we will help you: review business information currently appearing on Google Search\; claim and verify you as the contact person for your business\; populate and/or correct your information\; discover FREE business tools from Google\; and implement easy strategies designed to increase visibility and customer reach.&nbsp\;<br />\n<br />\nFor more information call 252-493-7528 or register online at: <a href="https://www.ncsbc.net/workshop.aspx?ekey=380360062">https://www.ncsbc.net/workshop.aspx?ekey=380360062</a>.</p>\n
LOCATION:PCC Farmville Center 3781 Main St. Farmville\, NC 27828
UID:e.840.2690
SEQUENCE:3
DTSTAMP:20260424T065753Z
URL:https://business.greenvillenc.org/events/details/round-table-discussion-make-sure-your-business-is-on-google-maps-06-21-2016-2690
END:VEVENT

END:VCALENDAR
