BEGIN:VCALENDAR
VERSION:2.0
PRODID:-//ChamberMaster//Event Calendar 2.0//EN
METHOD:PUBLISH
X-PUBLISHED-TTL:P3D
REFRESH-INTERVAL:P3D
CALSCALE:GREGORIAN
BEGIN:VEVENT
DTSTART:20160720T153000Z
DTEND:20160720T173000Z
X-MICROSOFT-CDO-ALLDAYEVENT:FALSE
SUMMARY:Round Table - Business Banking Basics
DESCRIPTION:Once you have launched your small business\, the ongoing challenge is managing your finances effectively. Through this round table discussion\, you will find out key information on financing\, electronic payment processing\, managing your cash flow\, insuring your assets and taking care of your employees.\n\n\n\nCrear una peque a empresa puede ser una tarea desalentadora sobre todo cuando se trata de manejar sus finanzas efectivamente. Este curso le proveer  informaci n clave sobre financiamiento\, procesamiento electr nico de pagos\, administraci n de flujo de caja\, seguro de sus activos\, y como cuidar a sus empleados.\n\n\n\nBring your lunch and join other entrepreneurs and small business owners! Register online: https://www.ncsbc.net/workshop.aspx?ekey=380360085
X-ALT-DESC;FMTTYPE=text/html:<p>Once you have launched your small business\, the ongoing challenge is managing your finances effectively. Through this round table discussion\, you will find out key information on financing\, electronic payment processing\, managing your cash flow\, insuring your assets and taking care of your employees.<br />\n<br />\n<em>Crear una peque&ntilde\;a empresa puede ser una tarea desalentadora sobre todo cuando se trata de manejar sus finanzas efectivamente. Este curso le proveer&aacute\; informaci&oacute\;n clave sobre financiamiento\, procesamiento electr&oacute\;nico de pagos\, administraci&oacute\;n de flujo de caja\, seguro de sus activos\, y como cuidar a sus empleados.</em><br />\n<br />\nBring your lunch and join other entrepreneurs and small business owners! Register online:&nbsp\;<strong>https://www.ncsbc.net/workshop.aspx?ekey=380360085</strong></p>\n
LOCATION:Farmville Center | 3781 Main Street
UID:e.840.5800
SEQUENCE:3
DTSTAMP:20260424T052457Z
URL:https://business.greenvillenc.org/events/details/round-table-business-banking-basics-07-20-2016-5800
END:VEVENT

END:VCALENDAR
