BEGIN:VCALENDAR
VERSION:2.0
PRODID:-//ChamberMaster//Event Calendar 2.0//EN
METHOD:PUBLISH
X-PUBLISHED-TTL:P3D
REFRESH-INTERVAL:P3D
CALSCALE:GREGORIAN
BEGIN:VEVENT
DTSTART:20171118T000000Z
DTEND:20171118T040000Z
X-MICROSOFT-CDO-ALLDAYEVENT:FALSE
SUMMARY:Ronald McDonald House of Eastern NC 30th Anniversary "Red Party"
DESCRIPTION:June 2017 marked 30 years of serving families at the Ronald McDonald House of Eastern North Carolina.  Since opening in 1987\, our House has had more than 27\,000 admissions and served families from all over Eastern NC and beyond.   \n\nTo celebrate this incredible milestone\, the Ronald McDonald House is hosting a 30th Anniversary "Red Party" as a way to remember the last 30 years and look forward to the future.  The Red Party will be held on Friday\, November 17th at Rock Springs Center from 7-11pm.  Guests will enjoy live music featuring The Main Event Band\, a silent and live auction\, and heavy hors d'oeuvres while remembering our friends\, families and donors who have supported our mission for the last 30 years. Attire is dressy casual\, and we invite everyone to incorporate something red into their attire\, whether it's a scarf\, heels\, or tie.\n\nhttp://rmhenc.org/30th-anniversary-red-party/
X-ALT-DESC;FMTTYPE=text/html:<p><span style="color:black\; font-family:verdana\,sans-serif">June 2017 marked 30 years of serving families at the Ronald McDonald House of Eastern North Carolina.&nbsp\; Since opening in 1987\, our House has had more than 27\,000 admissions and served families from all over Eastern NC and beyond. &nbsp\;</span><span style="color:black\; font-family:verdana\,sans-serif">&nbsp\;</span></p>\n\n<p><span style="color:black\; font-family:verdana\,sans-serif">To celebrate this incredible milestone\, the Ronald McDonald House is hosting a 30th Anniversary &ldquo\;Red Party&rdquo\; as a way to remember the last 30 years and look forward to the future.&nbsp\; The Red Party will be held on Friday\, November 17th at Rock Springs Center from 7-11pm.&nbsp\; Guests will enjoy live music featuring The Main Event Band\, a silent and live auction\, and heavy hors d&rsquo\;oeuvres while remembering our friends\, families and donors who have supported our mission for the last 30 years. </span><span style="color:black\; font-family:verdana\,sans-serif">Attire is dressy casual\, and we invite everyone to incorporate something red into their attire\, whether it&#39\;s a scarf\, heels\, or tie.</span></p>\n\n<p><span style="color:black\; font-family:verdana\,sans-serif"><a href="http://rmhenc.org/30th-anniversary-red-party/" target="_blank"><span style="color:blue">http://rmhenc.org/30th-anniversary-red-party/</span></a></span></p>\n
LOCATION:Rock Springs Center 4025 NC Hwy 43 N Greenville\, NC 27834
UID:e.840.8668
SEQUENCE:3
DTSTAMP:20260423T063143Z
URL:https://business.greenvillenc.org/events/details/ronald-mcdonald-house-of-eastern-nc-30th-anniversary-red-party-8668
END:VEVENT

END:VCALENDAR
