BEGIN:VCALENDAR
VERSION:2.0
PRODID:-//ChamberMaster//Event Calendar 2.0//EN
METHOD:PUBLISH
X-PUBLISHED-TTL:P3D
REFRESH-INTERVAL:P3D
CALSCALE:GREGORIAN
BEGIN:VEVENT
DTSTART:20180918T140000Z
DTEND:20180918T180000Z
X-MICROSOFT-CDO-ALLDAYEVENT:FALSE
SUMMARY:Rock Roll & Stroll
DESCRIPTION:Proceeds to benefit the Dementia Alliance of NC. \n\n\n\n-Lemonade\, Hot Dogs and Ice Cream for sale\n\n\n\nFor Sale: \n\n-The Rock- Rocking in rocking chairs on the front porch. $5 for every 15 minute interval \n\n-The Roll- Rolling in wheelchairs around the parking lot. $5 for every lap around the turn style \n\n-The Stroll- Strolling around the community. $5 for every lap around the building \n\n\n\nTo sponsor your loved one\, call the front desk and make your pledge.
X-ALT-DESC;FMTTYPE=text/html:Proceeds to benefit the Dementia Alliance of NC.&nbsp\;<br />\n<br />\n-Lemonade\, Hot Dogs and Ice Cream for sale<br />\n<br />\nFor Sale:&nbsp\;<br />\n-The Rock- Rocking in rocking chairs on the front porch. $5 for every 15 minute interval&nbsp\;<br />\n-The Roll- Rolling in wheelchairs around the parking lot. $5 for every lap around the turn style&nbsp\;<br />\n-The Stroll- Strolling around the community. $5 for every lap around the building&nbsp\;<br />\n<br />\nTo sponsor your loved one\, call the front desk and make your pledge.&nbsp\;
LOCATION:Spring Arbor Assisted Living & Memory Care 2097 W Arlington Blvd. Greenville
UID:e.840.8919
SEQUENCE:3
DTSTAMP:20260421T031247Z
URL:https://business.greenvillenc.org/events/details/rock-roll-stroll-8919
END:VEVENT

END:VCALENDAR
