BEGIN:VCALENDAR
VERSION:2.0
PRODID:-//ChamberMaster//Event Calendar 2.0//EN
METHOD:PUBLISH
X-PUBLISHED-TTL:P3D
REFRESH-INTERVAL:P3D
CALSCALE:GREGORIAN
BEGIN:VEVENT
DTSTART:20161104T230000Z
DTEND:20161105T030000Z
X-MICROSOFT-CDO-ALLDAYEVENT:FALSE
SUMMARY:Roast at the Rock
DESCRIPTION:The Junior Women's Association presents the second annual Roast at the Rock on Friday\, Nov. 4 from 7pm-11pm at Rock Springs Center. This event will include all you can eat oysters\, chili\, BBQ sliders\, s'mores by the bonfire\, beverages\, raffles\, and live music. Tickets are $50 each and are on sale now through Oct. 21. Tickets can be purchased online at www.jwagreenville.org and you must be 21 to attend. Proceeds from this event are to benefit the Junior Women's Association.\n\n\n\nThe Junior Women's Association of Greenville is an entirely volunteer-run organization of 135 women committed to improving the community through the effective action and leadership of trained volunteers. Over the past 7 years\, JWA has provided critical support to community projects\, programs\, and partners that impact the lives of women\, children and families throughout Greenville and Pitt County. Through direct fundraising efforts\, we have gifted over $165\,000 to different local organizations including Ronald McDonald House of Eastern NC\, RHA Howell Center\, Food Bank of Eastern NC\, Boys and Girls Club of Pitt County\, Habitat for Humanity\, and Literacy Volunteers of Pitt County.
X-ALT-DESC;FMTTYPE=text/html:The Junior Women&#39\;s Association presents the second annual Roast at the Rock on Friday\, Nov. 4 from 7pm-11pm at Rock Springs Center. This event will include all you can eat oysters\, chili\, BBQ sliders\, s&#39\;mores by the bonfire\, beverages\, raffles\, and live music. Tickets are $50 each and are on sale now through Oct. 21. Tickets can be purchased online at www.jwagreenville.org and you must be 21 to attend. Proceeds from this event are to benefit the Junior Women&#39\;s Association.<br />\n<br />\nThe Junior Women&#39\;s Association of Greenville is an entirely volunteer-run organization of 135 women committed to improving the community through the effective action and leadership of trained volunteers. Over the past 7 years\, JWA has provided critical support to community projects\, programs\, and partners that impact the lives of women\, children and families throughout Greenville and Pitt County. Through direct fundraising efforts\, we have gifted over $165\,000 to different local organizations including Ronald McDonald House of Eastern NC\, RHA Howell Center\, Food Bank of Eastern NC\, Boys and Girls Club of Pitt County\, Habitat for Humanity\, and Literacy Volunteers of Pitt County.
LOCATION:Rock Springs Center | 4025 NC Highway 43 N | Greenville\, NC 27834
UID:e.840.5872
SEQUENCE:3
DTSTAMP:20260423T235803Z
URL:https://business.greenvillenc.org/events/details/roast-at-the-rock-5872
END:VEVENT

END:VCALENDAR
