BEGIN:VCALENDAR
VERSION:2.0
PRODID:-//ChamberMaster//Event Calendar 2.0//EN
METHOD:PUBLISH
X-PUBLISHED-TTL:P3D
REFRESH-INTERVAL:P3D
CALSCALE:GREGORIAN
BEGIN:VEVENT
DTSTART:20171104T230000Z
DTEND:20171105T020000Z
X-MICROSOFT-CDO-ALLDAYEVENT:FALSE
SUMMARY:Junior League of Greenville\, NC presents Roast at the Rock
DESCRIPTION:Bundle up & join The Junior League of Greenville\, NC for a night of live music\, oysters & food\, drinks\, auctions\, games & a bonfire. Bring your friends & make it a night to remember!\n\nThe JL Greenville 3rd Annual Roast at the Rock will be held on Saturday\, November 4th at Rock Springs Center! At this event\, members and their guests will dine on all-you-can-eat oysters and other food and beverages. We will also have cornhole\, a bonfire\, s'mores\, raffles and live music to round out this fun-filled night.\n\nProceeds from this event are to benefit The Junior League of Greenville\, NC and partner organizations.
X-ALT-DESC;FMTTYPE=text/html:<p>Bundle up &amp\; join The Junior League of Greenville\, NC for a night of live music\, oysters &amp\; food\, drinks\, auctions\, games &amp\; a bonfire. Bring your friends &amp\; make it a night to remember!</p>\n\n<p>The JL Greenville 3rd Annual Roast at the Rock will be held on Saturday\, November 4th at Rock Springs Center! At this event\, members and their guests will dine on all-you-can-eat oysters and other food and beverages. We will also have cornhole\, a bonfire\, s&rsquo\;mores\, raffles and live music to round out this fun-filled night.</p>\n\n<p>Proceeds from this event are to benefit The Junior League of Greenville\, NC and partner organizations.</p>\n
LOCATION:Rock Springs Center
UID:e.840.8661
SEQUENCE:3
DTSTAMP:20260423T075300Z
URL:https://business.greenvillenc.org/events/details/roast-at-the-rock-11-04-2017-8661
END:VEVENT

END:VCALENDAR
