BEGIN:VCALENDAR
VERSION:2.0
PRODID:-//ChamberMaster//Event Calendar 2.0//EN
METHOD:PUBLISH
X-PUBLISHED-TTL:P3D
REFRESH-INTERVAL:P3D
CALSCALE:GREGORIAN
BEGIN:VEVENT
DTSTART:20181109T153000Z
DTEND:20181109T183000Z
X-MICROSOFT-CDO-ALLDAYEVENT:FALSE
SUMMARY:Riley's Army Texas Roadhouse Boxed Lunch Event
DESCRIPTION:Riley's Army invites you to join us for lunch.  Texas Roadhouse will be the host the Texas Roadhouse  Boxed Lunch Event to benefit Riley's Army on Friday Nov 9th from 10:30am-1:30pm.\n For $10 per boxed lunch- you can choose between 2 options: Option number 1 consists of a pulled-pork sandwich\, french-fries\, fruit cup\, and a pickle\; while option number 2 consists of a grilled chicken sandwich\, french-fries\, fruit cup\, and a pickle. Each meal will come with bottled water. \n\nWe will gladly deliver meals to your business or school with 10 or more orders. \n\nYou may preorder your boxed lunch anytime by Nov 2nd  by calling Kimber Stone at 919-608-8421 or email at kimber@rileysarmy.com.  We managed to meet our goal last year of 600 boxed lunches in three hours\; we would like to try to reach that number again this year.\n\nOrder forms can be found on our website\, under our Facebook Events Page\, or you may email Kimber Stone at kimber@rileysarmy.com for one.\n\nFunds from this event will help us create an endowment to start a scholarship program for high school students to honor Riley and her legacy as well as assist us in sponsoring 25 children with cancer to Camp Rainbow in June 2019.  Camp Rainbow is a week- long summer camp for children with cancer at Camp Don Lee.\n\nRiley's Army's mission is to support children with cancer and their families of Eastern NC and you are the heartbeat of our mission.  We cannot do any of this without you!
X-ALT-DESC;FMTTYPE=text/html:Riley&#39\;s Army invites you to join us for lunch.&nbsp\; <span style="font-size:10pt">Texas Roadhouse will be the host the Texas Roadhouse&nbsp\; Boxed Lunch Event to benefit Riley&rsquo\;s Army on Friday Nov 9<sup>th</sup> from 10:30am-1:30pm.</span>\n<p><span style="font-size:10pt">&nbsp\;For $10 per boxed lunch- you can choose between 2 options: Option number 1 consists of a pulled-pork sandwich\, french-fries\, fruit cup\, and a pickle\; while option number 2 consists of a grilled chicken sandwich\, french-fries\, fruit cup\, and a pickle. Each meal will come with bottled water. </span></p>\n\n<p><span style="font-size:10pt">We will gladly deliver meals to your business or school with 10 or more orders. </span></p>\n\n<p><span style="font-size:10pt">You may preorder your boxed lunch anytime by Nov 2nd&nbsp\; by calling Kimber Stone at 919-608-8421 or email at <u><span style="color:blue">kimber@rileysarmy.com</span></u>.&nbsp\; We managed to meet our goal last year of 600 boxed lunches in three hours\; we would like to try to reach that number again this year.<br />\nOrder forms can be found on our website\, under our Facebook Events Page\, or you may email Kimber Stone at kimber@rileysarmy.com for one.</span></p>\n\n<p><span style="font-size:10pt">Funds from this event will help us create an endowment to start a scholarship program for high school students to honor Riley and her legacy as well as assist us in sponsoring 25 children with cancer to Camp Rainbow in June 2019.&nbsp\; Camp Rainbow is a week- long summer camp for children with cancer at Camp Don Lee.</span></p>\n\n<p><span style="font-size:10pt">Riley&rsquo\;s Army&rsquo\;s mission is to support children with cancer and their families of Eastern NC and you are the heartbeat of our mission.&nbsp\; We cannot do any of this without you!</span></p>\n\n<p>&nbsp\;</p>\n
LOCATION:Texas Roadhouse 720 SW Greenville Blvd. Greenville
UID:e.840.8938
SEQUENCE:3
DTSTAMP:20260421T001230Z
URL:https://business.greenvillenc.org/events/details/riley-s-army-texas-roadhouse-boxed-lunch-event-8938
END:VEVENT

END:VCALENDAR
