BEGIN:VCALENDAR
VERSION:2.0
PRODID:-//ChamberMaster//Event Calendar 2.0//EN
METHOD:PUBLISH
X-PUBLISHED-TTL:P3D
REFRESH-INTERVAL:P3D
CALSCALE:GREGORIAN
BEGIN:VEVENT
DTSTART:20181109T150000Z
DTEND:20181109T180000Z
X-MICROSOFT-CDO-ALLDAYEVENT:FALSE
SUMMARY:Riley's Army Needs Volunteers for a fundraising event
DESCRIPTION:Riley's Army and Texas Roadhouse are hosting our Annual Texas Roadhouse Boxed Lunch Event on Frday Nov 9th from 10:00-1:30pm.  We are in need of volunteers to help drive boxed lunches to businesses and schools around Greenville.  Our goal is 600 boxed lunches in three hours- which means we need over 14 drivers each hour to help make this a success.  \n\n\n\nPlease sign up at this link to volunteer:  \n\nhttps://www.signupgenius.com/go/9040949adab28ab9-texas4
X-ALT-DESC;FMTTYPE=text/html:Riley&#39\;s Army and Texas Roadhouse are hosting our Annual Texas Roadhouse Boxed Lunch Event on Frday Nov 9th from 10:00-1:30pm.&nbsp\; We are in need of volunteers to help drive boxed lunches to businesses and schools around Greenville.&nbsp\; Our goal is 600 boxed lunches in three hours- which means we need over 14 drivers each hour to help make this a success. &nbsp\;<br />\n<br />\nPlease sign up at this link to volunteer: &nbsp\;<br />\nhttps://www.signupgenius.com/go/9040949adab28ab9-texas4
LOCATION:Texas Roadhouse 720 SW Greenville Blvd
UID:e.840.8939
SEQUENCE:3
DTSTAMP:20260421T014234Z
URL:https://business.greenvillenc.org/events/details/riley-s-army-needs-volunteers-for-a-fundraising-event-8939
END:VEVENT

END:VCALENDAR
