BEGIN:VCALENDAR
VERSION:2.0
PRODID:-//ChamberMaster//Event Calendar 2.0//EN
METHOD:PUBLISH
X-PUBLISHED-TTL:P3D
REFRESH-INTERVAL:P3D
CALSCALE:GREGORIAN
BEGIN:VEVENT
DTSTART:20170304T170000Z
DTEND:20170304T220000Z
X-MICROSOFT-CDO-ALLDAYEVENT:FALSE
SUMMARY:Riley's Army Needs Volunteers
DESCRIPTION:Nearly New Fish is a children's consignment sale going on March 1st - 5th with a benefit sale on Saturday March 4th from 12-5pm. Nearly New Fish will be donating 5% of all sales to Riley's Army on Sat from 12-5pm. They would love some volunteers to help with the register\, putting items away\, cleaning up\, and assisting people that come in to shop.\n\nIf you could spare an hour to two- that would be a great way to say\, "Thank you\," to them for donating to Riley's Army.\n\nSign up here to volunteer: http://www.signupgenius.com/go/9040949adab28ab9-nearly5\n\n \n\nLocation: 3700 S Memorial Drive Greenville\n\n \nDate: 03/04/2017 (Sat.)
X-ALT-DESC;FMTTYPE=text/html:<p>Nearly New Fish is a children&#39\;s consignment sale going on&nbsp\;March 1st - 5th&nbsp\;with a benefit sale on Saturday&nbsp\;March 4th&nbsp\;from 12-5pm. Nearly New Fish will be donating 5% of all sales to Riley&#39\;s Army on Sat from 12-5pm.&nbsp\;They would love some volunteers to help with the register\, putting items away\, cleaning up\, and assisting people that come in to shop.</p>\n\n<p>If you could spare an hour to two- that would be a great way to say\, &quot\;Thank you\,&quot\; to them for donating to Riley&#39\;s Army.</p>\n\n<p>Sign up here to volunteer: http://www.signupgenius.com/go/9040949adab28ab9-nearly5<br />\n&nbsp\;</p>\n\n<p><strong>Location: </strong>3700 S Memorial Drive Greenville</p>\n\n<p>&nbsp\;</p>\n<strong>Date: </strong>03/04/2017 (Sat.)\n\n<p>&nbsp\;</p>\n
LOCATION:3700 S Memorial Drive\, Greenville
UID:e.840.8067
SEQUENCE:3
DTSTAMP:20260423T181835Z
URL:https://business.greenvillenc.org/events/details/riley-s-army-needs-volunteers-8067
END:VEVENT

END:VCALENDAR
