BEGIN:VCALENDAR
VERSION:2.0
PRODID:-//ChamberMaster//Event Calendar 2.0//EN
METHOD:PUBLISH
X-PUBLISHED-TTL:P3D
REFRESH-INTERVAL:P3D
CALSCALE:GREGORIAN
BEGIN:VEVENT
DTSTART:20170606T220000Z
DTEND:20170606T230000Z
X-MICROSOFT-CDO-ALLDAYEVENT:FALSE
SUMMARY:Riley's Army Hospital Volunteer Interest Meeting
DESCRIPTION:We provide care for our families in the hospital. We deliver meals to them Monday - Thursday nights\, visit them in the day\, visit them on weekends. We need more hospital volunteers to be the face of Riley's Army to our families. You will learn more about what we do\, who we serve\, and how you can help at this interest meeting. Dinner will be provided. RSVP: Kimber Stone at 919-608-8421 or kimber@rileysarmy.com Be prepared to be touched by these children!
X-ALT-DESC;FMTTYPE=text/html:We provide care for our families in the hospital. We deliver meals to them Monday - Thursday nights\, visit them in the day\, visit them on weekends. We need more hospital volunteers to be the face of Riley&#39\;s Army to our families. You will learn more about what we do\, who we serve\, and how you can help at this interest meeting. Dinner will be provided. RSVP: Kimber Stone at 919-608-8421 or kimber@rileysarmy.com Be prepared to be touched by these children!
LOCATION:United Way Conference Room- 226 West 8th Street
UID:e.840.8625
SEQUENCE:3
DTSTAMP:20260423T141116Z
URL:https://business.greenvillenc.org/events/details/riley-s-army-hospital-volunteer-interest-meeting-8625
END:VEVENT

END:VCALENDAR
