BEGIN:VCALENDAR
VERSION:2.0
PRODID:-//ChamberMaster//Event Calendar 2.0//EN
METHOD:PUBLISH
X-PUBLISHED-TTL:P3D
REFRESH-INTERVAL:P3D
CALSCALE:GREGORIAN
BEGIN:VEVENT
DTSTART:20190318T213000Z
DTEND:20190318T233000Z
X-MICROSOFT-CDO-ALLDAYEVENT:FALSE
SUMMARY:Riley’s Army 11th Annual Pediatric Cancer Survivor’s Dinner
DESCRIPTION:Riley's Army is hosting the 11th Annual Pediatric Cancer Survivor Dinner.  The dinner will be sponsored by Riley's Army on March 18th\, 2019 from 5:30-7:30pm at Greenville Hilton\, Greenville\, NC.\n\n\n\nRiley's Army provides a "kid-friendly" opportunity for families of pediatric cancer patients and survivors to celebrate together.  The theme for this year's Roaring for a Cure. Our pediatric cancer survivor's dinner will allow the children and their families to participate in different activities by traveling around the ballroom to several different "games/ activities". We will have Brian Bailey\, WNCT\, as emcee\, entertainment and more. Any child with pediatric cancer that would like to attend the dinner with their family\; please RSVP to kimber@rileysarmy.com.\n\n \n\nPlease consider honoring the work that Riley's Army provides by covering our story and dinner on March 18th from 5:30-7:30pm at Hilton\, Greenville.
X-ALT-DESC;FMTTYPE=text/html:Riley&rsquo\;s Army is hosting the 11<sup>th</sup> Annual Pediatric Cancer Survivor Dinner.&nbsp\; The dinner will be sponsored by Riley&rsquo\;s Army on March 18<sup>th\,</sup> 2019 from 5:30-7:30pm at Greenville Hilton\, Greenville\, NC.<br />\n<br />\nRiley&rsquo\;s Army provides a &ldquo\;kid-friendly&rdquo\; opportunity for families of pediatric cancer patients and survivors to celebrate together.&nbsp\; The theme for this year&rsquo\;s Roaring for a Cure. Our pediatric cancer survivor&rsquo\;s dinner will allow the children and their families to participate in different activities by traveling around the ballroom to several different &ldquo\;games/ activities&rdquo\;. We will have Brian Bailey\, WNCT\, as emcee\, entertainment and more. Any child with pediatric cancer that would like to attend the dinner with their family\; please RSVP to <a href="mailto:kimber@rileysarmy.com">kimber@rileysarmy.com</a>.<br />\n&nbsp\;<br />\nPlease consider honoring the work that Riley&rsquo\;s Army provides by covering our story and dinner on March 18<sup>th</sup> from 5:30-7:30pm at Hilton\, Greenville.&nbsp\;
LOCATION:207 SW Greenville Blvd SW Greenville\, NC 27834
UID:e.840.9766
SEQUENCE:3
DTSTAMP:20260420T191516Z
URL:https://business.greenvillenc.org/events/details/riley-s-army-11th-annual-pediatric-cancer-survivor-s-dinner-9766
END:VEVENT

END:VCALENDAR
