BEGIN:VCALENDAR
VERSION:2.0
PRODID:-//ChamberMaster//Event Calendar 2.0//EN
METHOD:PUBLISH
X-PUBLISHED-TTL:P3D
REFRESH-INTERVAL:P3D
CALSCALE:GREGORIAN
BEGIN:VEVENT
DTSTART:20161008T123000Z
DTEND:20161008T200000Z
X-MICROSOFT-CDO-ALLDAYEVENT:FALSE
SUMMARY:Ride for the Ribbon
DESCRIPTION:10th Annual Ride for the Ribbon NC Breast Cancer Benefit! It's a 100 mile ride from Greenville\, NC to Washington\, NC to Kinston\, NC to Winterville\, NC back to Greenville\, NC. Funds raised help those in need in the fight against breast cancer in Pitt\, Beaufort and Lenoir counties. Come help us fight breast cancer!
X-ALT-DESC;FMTTYPE=text/html:10th Annual Ride for the Ribbon NC Breast Cancer Benefit! It&#39\;s a 100 mile ride from Greenville\, NC to Washington\, NC to Kinston\, NC to Winterville\, NC back to Greenville\, NC. Funds raised help those in need in the fight against breast cancer in Pitt\, Beaufort and Lenoir counties. Come help us fight breast cancer!
LOCATION:Eastern Radiologist Breast Imaging Center 2101 W. Arlington Blvd. Greenville\, NC 27834
UID:e.840.5799
SEQUENCE:3
DTSTAMP:20260424T022747Z
URL:https://business.greenvillenc.org/events/details/ride-for-the-ribbon-10-08-2016-5799
END:VEVENT

END:VCALENDAR
