BEGIN:VCALENDAR
VERSION:2.0
PRODID:-//ChamberMaster//Event Calendar 2.0//EN
METHOD:PUBLISH
X-PUBLISHED-TTL:P3D
REFRESH-INTERVAL:P3D
CALSCALE:GREGORIAN
BEGIN:VEVENT
DTSTART:20140724T213000Z
DTEND:20140724T230000Z
X-MICROSOFT-CDO-ALLDAYEVENT:FALSE
SUMMARY:Ribbon Cutting at Albemarle Bank & Trust
DESCRIPTION:Celebrate with us as we open our first full-service branch in Greenville!\n\n\n\nStop by and check out our renovations and get to know our new staff!\n\n\n\nLight refreshments will be served.
X-ALT-DESC;FMTTYPE=text/html:Celebrate with us as we open our first full-service branch in Greenville!<br />\n<br />\nStop by and check out our renovations and get to know our new staff!<br />\n<br />\nLight refreshments will be served.
LOCATION:4051 S. Memorial Drive\, Winterville\, NC 28590
UID:e.840.552
SEQUENCE:3
DTSTAMP:20260425T205453Z
URL:https://business.greenvillenc.org/events/details/ribbon-cutting-at-albemarle-bank-trust-07-24-2014-552
END:VEVENT

END:VCALENDAR
