BEGIN:VCALENDAR
VERSION:2.0
PRODID:-//ChamberMaster//Event Calendar 2.0//EN
METHOD:PUBLISH
X-PUBLISHED-TTL:P3D
REFRESH-INTERVAL:P3D
CALSCALE:GREGORIAN
BEGIN:VEVENT
DTSTART:20190415T200000Z
DTEND:20190415T220000Z
X-MICROSOFT-CDO-ALLDAYEVENT:FALSE
SUMMARY:Ribbon Cutting
DESCRIPTION:We grew out of our first location in a year\, so we are finally having our long-awaited Ribbon Cutting! This event will be catered by Fresh Vibes. We will be drawing for very special prize: UNLIMITED whole body treatments for one month. Come see our new office and learn how we use light and laser therapy to serve the Greenville community!
X-ALT-DESC;FMTTYPE=text/html:We grew out of our first location in a year\, so we are finally having our long-awaited Ribbon Cutting! This event will be catered by Fresh Vibes. We will be drawing for very special prize: UNLIMITED whole body treatments for one month. Come see our new office and learn how we use light and laser therapy to serve the Greenville community!
LOCATION:212 E. Arlington Blvd Greenville\, NC 27858
UID:e.840.10044
SEQUENCE:3
DTSTAMP:20260420T185737Z
URL:https://business.greenvillenc.org/events/details/ribbon-cutting-10044
END:VEVENT

END:VCALENDAR
