BEGIN:VCALENDAR
VERSION:2.0
PRODID:-//ChamberMaster//Event Calendar 2.0//EN
METHOD:PUBLISH
X-PUBLISHED-TTL:P3D
REFRESH-INTERVAL:P3D
CALSCALE:GREGORIAN
BEGIN:VEVENT
DTSTART:20200324T124500Z
DTEND:20200324T160000Z
X-MICROSOFT-CDO-ALLDAYEVENT:FALSE
SUMMARY:Rethink Poverty- Community Action Poverty Simulation
DESCRIPTION:Community Action Poverty Simulation \n\n RETHINK POVERTY.\n\n\n\nSPEND A SIMULATED MONTH in the poverty experienced by our community's individuals and families. This interactive event promotes poverty awareness\, increases understanding and inspires local change. The simulation is based on Community Action clients and their daily realities. This is not a game.\n\n\n\nWhen:\n\n8:45am-12:00pm Tuesday March 24th 2020\n\n\n\nWhere:\n\nECU Main Campus Student Center\, 501 E 10th Street Greenville NC\n\n\n\nEarly Registration $20 by March 6th\n\nLate Registration $30 after March 6th\n\n Cost covers all materials\, lunch & snacks\n\n\n\nRegister:\n\nCall the Council on Aging 252-752-1717 ext 201\n\n\n\nHosted by: ECU's Department of Health Education and Promotion and Pitt County Council on Aging\n\n#PovertySimulation www.povertysimulation.org\n\n\n\n\n\n\n\nCopyright for Community Action Poverty Simulation is owned by Missouri Community Action Network
X-ALT-DESC;FMTTYPE=text/html:Community Action Poverty Simulation&copy\;<br />\n&nbsp\;RETHINK POVERTY.<br />\n<br />\nSPEND A SIMULATED MONTH in the poverty experienced by our community&rsquo\;s individuals and families. This interactive event promotes poverty awareness\, increases understanding and inspires local change. The simulation is based on Community Action clients and their daily realities. This is not a game.<br />\n<br />\nWhen:<br />\n8:45am-12:00pm Tuesday March 24th 2020<br />\n<br />\nWhere:<br />\nECU Main Campus Student Center\, 501 E 10th Street Greenville NC<br />\n<br />\nEarly Registration $20 by March 6th<br />\nLate Registration $30 after March 6th<br />\n&nbsp\;Cost covers all materials\, lunch &amp\; snacks<br />\n<br />\nRegister:<br />\nCall the Council on Aging 252-752-1717 ext 201<br />\n<br />\nHosted by: ECU&#39\;s Department of Health Education and Promotion and Pitt County Council on Aging<br />\n#PovertySimulation www.povertysimulation.org<br />\n<br />\n<br />\n<br />\nCopyright for Community Action Poverty Simulation is owned by Missouri Community Action Network
LOCATION:ECU Main Campus Student Center\, 501 E 10th Street Greenville NC
UID:e.840.11393
SEQUENCE:3
DTSTAMP:20260420T030611Z
URL:https://business.greenvillenc.org/events/details/rethink-poverty-community-action-poverty-simulation-11393
END:VEVENT

END:VCALENDAR
