BEGIN:VCALENDAR
VERSION:2.0
PRODID:-//ChamberMaster//Event Calendar 2.0//EN
METHOD:PUBLISH
X-PUBLISHED-TTL:P3D
REFRESH-INTERVAL:P3D
CALSCALE:GREGORIAN
BEGIN:VEVENT
DTSTART:20160907T220000Z
DTEND:20160908T000000Z
X-MICROSOFT-CDO-ALLDAYEVENT:FALSE
SUMMARY:Retail Round Table - Prevent Retail Theft
DESCRIPTION:U.S. businesses are now losing around $60 billion annually to retail shrinkage. The vast majority of the losses are attributable to retail theft. This makes retail theft one of the biggest problems facing small business retailers today. Join us for a free round table discussion on retail theft\, what to expect when calling the police to report a crime and what is needed\, as well as measures to prevent theft. Our speaker\, Lt. Bowen will also detail some of the ways we communicate to the community our crime and safety efforts. Lt. David Bowen is currently assigned as the East Zone Commander for the Greenville Police Department. He has worked in both Patrol and Investigations throughout his career. As Zone Commander\, he has implemented Larceny Reduction Initiative in 2014\, served as a DDACTS Subject Matter Expert nationwide (Data Driven Approaches to Crime and Traffic Safety)\, and developed the East Zone Substation located on East 10th Street. He has also created groups for Retail Theft and student apartment complexes. \n\n\n\nRegister online: https://www.ncsbc.net/workshop.aspx?ekey=380360097
X-ALT-DESC;FMTTYPE=text/html:<span style="color: rgb(0\, 0\, 0)\; font-family: arial\,helvetica\,sans-serif\; font-size: 12px\;">U.S. businesses are now losing around $60 billion annually to retail shrinkage. The vast majority of the losses are attributable to retail theft. This makes retail theft one of the biggest problems facing small business retailers today. Join us for a free round table discussion on retail theft\, what to expect when calling the police to report a crime and what is needed\, as well as measures to prevent theft. Our speaker\, Lt. Bowen will also detail some of the ways we communicate to the community our crime and safety efforts. Lt. David Bowen is currently assigned as the East Zone Commander for the Greenville Police Department. He has worked in both Patrol and Investigations throughout his career. As Zone Commander\, he has implemented Larceny Reduction Initiative in 2014\, served as a DDACTS Subject Matter Expert nationwide (Data Driven Approaches to Crime and Traffic Safety)\, and developed the East Zone Substation located on East 10th Street. He has also created groups for Retail Theft and student apartment complexes.&nbsp\;<br />\n<br />\nRegister online:&nbsp\;</span>https://www.ncsbc.net/workshop.aspx?ekey=380360097
LOCATION:PCC Greenville Center - 3107 S. Memorial Dr.
UID:e.840.5843
SEQUENCE:3
DTSTAMP:20260424T022443Z
URL:https://business.greenvillenc.org/events/details/retail-round-table-prevent-retail-theft-5843
END:VEVENT

END:VCALENDAR
