BEGIN:VCALENDAR
VERSION:2.0
PRODID:-//ChamberMaster//Event Calendar 2.0//EN
METHOD:PUBLISH
X-PUBLISHED-TTL:P3D
REFRESH-INTERVAL:P3D
CALSCALE:GREGORIAN
BEGIN:VEVENT
DTSTART:20170810T170000Z
DTEND:20170810T200000Z
X-MICROSOFT-CDO-ALLDAYEVENT:FALSE
SUMMARY:Resolving Conflict in the Workplace Training
DESCRIPTION:This interactive 3-hour training will define conflict in the workplace\, discover the root cause of conflict\, discuss the many styles of conflict management\, and offer participants practical tools to resolve conflict in all areas of life.
X-ALT-DESC;FMTTYPE=text/html:This interactive 3-hour training will define conflict in the workplace\, discover the root cause of conflict\, discuss the many styles of conflict management\, and offer participants practical tools to resolve conflict in all areas of life.
LOCATION:MCEC Pitt/Greenville Office 200-A Eastbrook Dr. Greenville\, NC 27858
UID:e.840.8638
SEQUENCE:3
DTSTAMP:20260423T104012Z
URL:https://business.greenvillenc.org/events/details/resolving-conflict-in-the-workplace-training-8638
END:VEVENT

END:VCALENDAR
