BEGIN:VCALENDAR
VERSION:2.0
PRODID:-//ChamberMaster//Event Calendar 2.0//EN
METHOD:PUBLISH
X-PUBLISHED-TTL:P3D
REFRESH-INTERVAL:P3D
CALSCALE:GREGORIAN
BEGIN:VEVENT
DTSTART:20190813T150000Z
DTEND:20190814T020000Z
X-MICROSOFT-CDO-ALLDAYEVENT:FALSE
SUMMARY:Rally for Ally Dine Around at Mellow Mushroom
DESCRIPTION:Be sure to stop by Mellow Mushroom on Tuesday for lunch or dinner! A portion of food sales all day  (eat in or take out) will be donated to Rally for Ally for pediatric brain cancer. BE SURE TO DROP YOUR ITEMIZED RECEIPT (not your credit card receipt) in the collection jars! Thank you for your support!!
X-ALT-DESC;FMTTYPE=text/html:<span style="color:rgb(29\, 33\, 41)\; font-family:helvetica\,arial\,sans-serif\; font-size:14px">Be sure to stop by Mellow Mushroom on Tuesday for lunch or dinner! A portion of food sales all day&nbsp\; (eat in or take out) will be donated to Rally for Ally for pediatric brain cancer. BE SURE TO DROP YOUR ITEMIZED RECEIPT (not your credit card receipt) in the collection jars! Thank you for your support!!</span>
LOCATION:Mellow Mushroom 2020 Charles Blvd Greenville\, NC 27858
UID:e.840.10354
SEQUENCE:3
DTSTAMP:20260420T134828Z
URL:https://business.greenvillenc.org/events/details/rally-for-ally-dine-around-at-mellow-mushroom-10354
END:VEVENT

END:VCALENDAR
