BEGIN:VCALENDAR
VERSION:2.0
PRODID:-//ChamberMaster//Event Calendar 2.0//EN
METHOD:PUBLISH
X-PUBLISHED-TTL:P3D
REFRESH-INTERVAL:P3D
CALSCALE:GREGORIAN
BEGIN:VEVENT
DTSTART:20191027T180000Z
DTEND:20191027T210000Z
X-MICROSOFT-CDO-ALLDAYEVENT:FALSE
SUMMARY:Rally for Ally Costumes for a Cure 5K
DESCRIPTION:Rally for Ally is hosting their second annual COSTUME-THEMED event with a timed 5k\, fun run and family walk on a course through the Greenway in downtown Greenville.  Run or walk in your most creative costume and win a prize in one of several categories. Pets and strollers are welcome!  The proceeds from this event will be donated to help fund the development of a clinical trial for pediatric brain cancer at the McKnight Brain Institute\, University of Florida.  10% of proceeds will remain within the Greenville Community to provide resources for teens diagnosed with cancer.\n\nRally for Ally was formed by Mike and Kelly Hart in 2015 in honor of their daughter\, Allyson\, after her battle with a rare brain tumor called an ependymoma.  Since then Rally for Ally has raised $45\,000 for pediatric brain cancer research.   Rally for Ally is a charitable fund under the sponsorship of the Community Foundation of NC East\, a 501 (c)(3) organization.  Donations to our mission are tax deductible.\n\nLearn more about us and our mission at  www.rallyforally.org.  \n\nFollow us on Facebook\, @rallyforally2014\, and Instagram\, /rallyforally2014\n\nAwards/Categories:\n\nTop 1 M & F overall\, Top 1 M & F in age groups: 12 & under\, 13-19\, 20-29\, 30-39\, 40-49\, 50-59\, 60-69\, 70+.
X-ALT-DESC;FMTTYPE=text/html:<p>Rally for Ally is hosting their second annual&nbsp\;<strong><span style="color:rgb(153\, 204\, 255)">COSTUME-THEMED</span></strong>&nbsp\;event with a timed 5k\, fun run and family walk on a course through the Greenway in downtown Greenville.&nbsp\; Run or walk in your most creative costume and win a prize in one of several categories. Pets and strollers are welcome!&nbsp\; The proceeds from this event will be donated to help fund the development of a clinical trial for pediatric brain cancer at the McKnight Brain Institute\, University of Florida.&nbsp\; 10% of proceeds will remain within the Greenville Community to provide resources for teens diagnosed with cancer.</p>\n\n<p>Rally for Ally was formed by Mike and Kelly Hart in 2015 in honor of their daughter\, Allyson\, after her battle with a rare brain tumor called an ependymoma.&nbsp\; Since then Rally for Ally has raised $45\,000 for pediatric brain cancer research.&nbsp\; &nbsp\;Rally for Ally is a charitable fund under the sponsorship of the Community Foundation of NC East\, a 501 (c)(3) organization.&nbsp\; Donations to our mission are tax deductible.</p>\n\n<p>Learn more about us and our mission at&nbsp\;&nbsp\;<a href="http://www.rallyforally.org/" rel="noopener noreferrer" style="background-color: transparent\; color: rgb(183\, 95\, 1)\; text-decoration-line: none\;" target="_blank">www.rallyforally.org.&nbsp\;&nbsp\;</a><br />\nFollow us on Facebook\, @rallyforally2014\, and Instagram\, /rallyforally2014</p>\n\n<p><strong>Awards/Categories:</strong><br />\nTop 1 M &amp\; F overall\, Top 1 M &amp\; F in age groups: 12 &amp\; under\, 13-19\, 20-29\, 30-39\, 40-49\, 50-59\, 60-69\, 70+.&nbsp\;</p>\n\n<p>&nbsp\;</p>\n
LOCATION:105 E 1st Street Greenville\, NC 27858 The course will be through the Greenway\, downtown Greenville.
UID:e.840.10776
SEQUENCE:3
DTSTAMP:20260420T093118Z
URL:https://business.greenvillenc.org/events/details/rally-for-ally-costumes-for-a-cure-5k-10776
END:VEVENT

END:VCALENDAR
