BEGIN:VCALENDAR
VERSION:2.0
PRODID:-//ChamberMaster//Event Calendar 2.0//EN
METHOD:PUBLISH
X-PUBLISHED-TTL:P3D
REFRESH-INTERVAL:P3D
CALSCALE:GREGORIAN
BEGIN:VEVENT
DTSTART:20191218T190000Z
DTEND:20191218T230000Z
X-MICROSOFT-CDO-ALLDAYEVENT:FALSE
SUMMARY:Rally for Ally Blood Drive
DESCRIPTION:Come out to Fresh Vibes on December 18th to 'Rally for Ally!' Rally for Ally began in 2014 as a community support group for the family of Allyson Hart\, a 17-year-old Greenville\, NC\, native who was diagnosed with a rare brain tumor called an ependymoma. In 2015\, the Hart family established the non-profit\, Rally for Ally\, whose mission is to raise money and awareness on the subject of Pediatric Brain Cancer. Help us fight cancer by donating blood and supporting cancer research! \n\n\n\nAll donors will receive a $10 Visa gift card and $10 will be donated on their behalf to the Rally for Ally organization. Donations to Rally for Ally go directly to fund the moving of a cutting edge research trial from animal clinical trials into human clinical trials at the University of Florida Brain Tumor Immunotherapy Program (UFBTP)\, housed within the Preston A. Wells\, Jr. Center for Brain Tumor Therapy and Evelyn F. and William L. McKnight Brain Institute (MBI).
X-ALT-DESC;FMTTYPE=text/html:<span style="background-color:rgb(255\, 255\, 255)\; color:rgb(29\, 33\, 41)\; font-family:helvetica\,arial\,sans-serif\; font-size:14px">Come out to Fresh Vibes on December 18th to &#39\;Rally for Ally!&#39\;&nbsp\;</span><span style="color:rgb(29\, 33\, 41)\; font-family:helvetica\,arial\,sans-serif\; font-size:14px">Rally for Ally began in 2014 as a community support group for the family of Allyson Hart\, a 17-year-old Greenville\, NC\, native who was diagnosed with a rare brain tumor called an ependymoma. In 2015\, the Hart family established the non-profit\, Rally for Ally\, whose mission is to raise money and awareness on the subject of Pediatric Brain Cancer. Help us fight cancer by donating blood and supporting cancer research!&nbsp\;</span>\n<div>\n<div><br />\n<span style="background-color:rgb(255\, 255\, 255)\; color:rgb(29\, 33\, 41)\; font-family:helvetica\,arial\,sans-serif\; font-size:14px">All donors will receive a $10 Visa gift card and $10 will be donated on their behalf to the Rally for Ally organization. Donations to Rally for Ally go directly to fund the moving of a cutting&ndash\;edge research trial from animal clinical trials into human clinical trials at the University of Florida Brain Tumor Immunotherapy Program (UFBTP)\, housed within the Preston A. Wells\, Jr. Center for Brain Tumor Therapy and Evelyn F. and William L. McKnight Brain Institute (MBI).</span></div>\n</div>\n
LOCATION:FreshVibes Greenville 1725 W. Arlington Blvd Suite 100 Greenville\, North Carolina 27834
UID:e.840.10964
SEQUENCE:3
DTSTAMP:20260420T074758Z
URL:https://business.greenvillenc.org/events/details/rally-for-ally-blood-drive-10964
END:VEVENT

END:VCALENDAR
