BEGIN:VCALENDAR
VERSION:2.0
PRODID:-//ChamberMaster//Event Calendar 2.0//EN
METHOD:PUBLISH
X-PUBLISHED-TTL:P3D
REFRESH-INTERVAL:P3D
CALSCALE:GREGORIAN
BEGIN:VEVENT
DTSTART:20190821T220000Z
DTEND:20190822T010000Z
X-MICROSOFT-CDO-ALLDAYEVENT:FALSE
SUMMARY:Raising an Athlete - What Every Parent Needs to Know
DESCRIPTION:Do you have a child that is currently playing a sport\, or is interested in playing sports this upcoming 2019-2020 school year? Is your athlete a rising 6th-12th grade student? If you answered yes to these two questions\, you don't want to miss this FREE EVENT! Nearly 90 percent of teen athletes will sustain an injury in sports. Knowing how to recognize the signs and symptoms as a parent is important! Parents and youth will learn about important sports injury prevention topics such as SPORTS NUTRITION\, CONCUSSION AWARENESS\, and GOOD SPORTSMANSHIP from professionals in the field. \n\n\n\nEach child in attendance will receive a prize-filled sport bag! Event includes a free 3-course dinner buffet\, interactive breakout sessions\, and door prizes. For more information\, contact LaTangee Dickens at (252) 847-9211 or email LaTangee.Dickens@vidanthealth.com.
X-ALT-DESC;FMTTYPE=text/html:<p>Do you have a child that is currently playing a sport\, or is interested in playing sports this upcoming 2019-2020 school year? Is your athlete a rising 6th-12th grade student? If you answered yes to these two questions\, you don&rsquo\;t want to miss this&nbsp\;FREE EVENT! Nearly 90 percent of teen athletes will sustain an injury in sports. Knowing how to recognize the signs and symptoms as a parent is important! Parents and youth will learn about important sports injury prevention topics such as&nbsp\;SPORTS NUTRITION\, CONCUSSION AWARENESS\,&nbsp\;and&nbsp\;GOOD SPORTSMANSHIP&nbsp\;from professionals in the field.&nbsp\;<br />\n<br />\nEach child in attendance will receive a prize-filled sport bag! Event includes a free 3-course dinner buffet\, interactive breakout sessions\, and door prizes. For more information\, contact <strong>LaTangee Dickens</strong> at (252) 847-9211 or email&nbsp\;<a href="mailto:LaTangee.Dickens@vidanthealth.com">LaTangee.Dickens@vidanthealth.com</a>.</p>\n
LOCATION:Harvey Hall at Murphy Center East Carolina University 9999 Pirates Walk\, Greenville\, NC 27858
UID:e.840.10348
SEQUENCE:3
DTSTAMP:20260420T134536Z
URL:https://business.greenvillenc.org/events/details/raising-an-athlete-what-every-parent-needs-to-know-10348
END:VEVENT

END:VCALENDAR
