BEGIN:VCALENDAR
VERSION:2.0
PRODID:-//ChamberMaster//Event Calendar 2.0//EN
METHOD:PUBLISH
X-PUBLISHED-TTL:P3D
REFRESH-INTERVAL:P3D
CALSCALE:GREGORIAN
BEGIN:VEVENT
DTSTART;VALUE=DATE:20190909
DTEND;VALUE=DATE:20190915
TRANSP:TRANSPARENT
X-MICROSOFT-CDO-ALLDAYEVENT:TRUE
SUMMARY:Rails & Sails Boston & Maine
DESCRIPTION:Join us on a 6 day/5 night trip to Boston and Maine! Trip includes a downeast lobster bake with entertainment\, an authentic lobster harvesting on a lobster boat tour and more! (see flyer for detials)\n\nCost is $865 per person double occupancy. $100 deposit by May 24 will reserve your spot. Call 752-1717 x 205 for more details.
X-ALT-DESC;FMTTYPE=text/html:Join us on a 6 day/5 night trip to Boston and Maine! Trip includes a downeast lobster bake with entertainment\, an authentic lobster harvesting on a lobster boat tour and more! (see flyer for detials)<br />\nCost is $865 per person double occupancy. $100 deposit by May 24 will reserve your spot. Call 752-1717 x 205 for more details.
LOCATION:
UID:e.840.10051
SEQUENCE:3
DTSTAMP:20260420T104622Z
URL:https://business.greenvillenc.org/events/details/rails-sails-boston-maine-10051
END:VEVENT

END:VCALENDAR
