BEGIN:VCALENDAR
VERSION:2.0
PRODID:-//ChamberMaster//Event Calendar 2.0//EN
METHOD:PUBLISH
X-PUBLISHED-TTL:P3D
REFRESH-INTERVAL:P3D
CALSCALE:GREGORIAN
BEGIN:VEVENT
DTSTART:20170915T120000Z
DTEND:20170915T210000Z
X-MICROSOFT-CDO-ALLDAYEVENT:FALSE
SUMMARY:Purple Gold Golf Open
DESCRIPTION:Since its establishment in 2005\, the East Carolina Alumni Association scholarship program has awarded 272 scholarships totaling over $385\,000. These scholarships are funded by contributions from generous alumni\, along with participants of the golf tournament in the fall and the Pirate Alumni Road Race and Fun Run in the spring.* Your participation in these fundraisers ensures that we can continue to grow our scholarship program. \n\n\n\nEnjoy a day on the links with fellow ECU supporters for a game of golf and plenty of prizes! With trophies awarded to the teams with the lowest gross score and lowest net score\, hole-in-one prizes on all par 3 holes\, longest drive\, and closest-to-the-pin\, your swing may land you a bounty. Acura also sponsors a hole-in-one vehicle contest! Best of all\, it's for a good cause ECU scholarships! \n\n\n\nThe winning golf team (lowest gross score) will have the opportunity to represent ECU and play at legendary Pinehurst No. 2 and No. 4 in the Acura College Alumni Team Championship held October 26-29\, 2017. The top six teams will win prizes and the winning team will be crowned the National College Alumni Team Champions. \n\n\n\n*Proceeds fund annual scholarships with any balance supporting the scholarship endowment. No refunds will be issued after 9/11/17.
X-ALT-DESC;FMTTYPE=text/html:<span style="font-family:droid sans\,helvetica\,arial\,sans-serif\; font-size:14px">Since its establishment in 2005\, the East Carolina Alumni Association scholarship program has awarded 272 scholarships totaling over $385\,000. These scholarships are funded by contributions from generous alumni\, along with participants of the golf tournament in the fall and the Pirate Alumni Road Race and Fun Run in the spring.* Your participation in these fundraisers ensures that we can continue to grow our scholarship program.&nbsp\;</span><br />\n<br />\n<span style="font-family:droid sans\,helvetica\,arial\,sans-serif\; font-size:14px">Enjoy a day on the links with fellow ECU supporters for a game of golf and plenty of prizes! With trophies awarded to the teams with the lowest gross score and lowest net score\, hole-in-one prizes on all par 3 holes\, longest drive\, and closest-to-the-pin\, your swing may land you a bounty. Acura also sponsors a hole-in-one vehicle contest! Best of all\, it&rsquo\;s for a good cause&mdash\;ECU scholarships!&nbsp\;</span><br />\n<br />\n<span style="font-family:droid sans\,helvetica\,arial\,sans-serif\; font-size:14px">The winning golf team (lowest gross score) will have the opportunity to represent ECU and play at legendary Pinehurst No. 2 and No. 4 in the Acura College Alumni Team Championship held October 26-29\, 2017. The top six teams will win prizes and the winning team will be crowned the National College Alumni Team Champions.&nbsp\;</span><br />\n<br />\n<em><span style="font-size:10px">*Proceeds fund annual scholarships with any balance supporting the scholarship endowment. No refunds will be issued after 9/11/17.</span></em>
LOCATION:Ironwood Golf & Country Club 200 Golf Club Wynd Greenville\, NC 27834
UID:e.840.8641
SEQUENCE:3
DTSTAMP:20260423T104216Z
URL:https://business.greenvillenc.org/events/details/purple-gold-golf-open-8641
END:VEVENT

END:VCALENDAR
