BEGIN:VCALENDAR
VERSION:2.0
PRODID:-//ChamberMaster//Event Calendar 2.0//EN
METHOD:PUBLISH
X-PUBLISHED-TTL:P3D
REFRESH-INTERVAL:P3D
CALSCALE:GREGORIAN
BEGIN:VEVENT
DTSTART:20180907T120000Z
DTEND:20180907T200000Z
X-MICROSOFT-CDO-ALLDAYEVENT:FALSE
SUMMARY:Purple Gold Golf Open
DESCRIPTION:Enjoy a day on the links with fellow ECU supporters for a game of golf and plenty of prizes! With trophies awarded to the teams with the lowest gross score and lowest net score\, longest drive\, and closest-to-the-pin\, your swing may land you a bounty. Best of all\, it's for a good cause ECU scholarships!\n\n\n\nSince its establishment in 2005\, the ECU Alumni Association scholarship program has awarded 297 scholarships totaling over $432\,000. These scholarships are funded by contributions from generous alumni\, along with participants of the golf tournament in the fall and the Pirate Alumni Road Race and Fun Run in the spring.* Your participation in these fundraisers ensure the continuation and growth of our scholarship program.\n\n \nPlayer Pricing\n\nPlayer package includes breakfast provided by Chick-fil-A\, lunch provided by Outback Steakhouse\, snacks and Pirate beverages\, green fees\, cart fee\, and complementary ECU Alumni gift bag.\n\n\n\nPlayer Packages:\n\nPlayer: $155/pp\n\nMulligan Add-on: $20 (limit 1 per player)
X-ALT-DESC;FMTTYPE=text/html:Enjoy a day on the links with fellow ECU supporters for a game of golf and plenty of prizes! With trophies awarded to the teams with the lowest gross score and lowest net score\, longest drive\, and closest-to-the-pin\, your swing may land you a bounty. Best of all\, it&rsquo\;s for a good cause&mdash\;ECU scholarships!<br />\n<br />\nSince its establishment in 2005\, the ECU Alumni Association scholarship program has awarded 297 scholarships totaling over $432\,000. These scholarships are funded by contributions from generous alumni\, along with participants of the golf tournament in the fall and the Pirate Alumni Road Race and Fun Run in the spring.* Your participation in these fundraisers ensure the continuation and growth of our scholarship program.<br />\n&nbsp\;\n<h2><strong>Player Pricing</strong></h2>\n\n<p>Player package includes breakfast provided by Chick-fil-A\, lunch provided by Outback Steakhouse\, snacks and Pirate beverages\, green fees\, cart fee\, and complementary ECU Alumni gift bag.<br />\n<br />\n<em><strong>Player Packages:</strong></em><br />\nPlayer: $155/pp<br />\nMulligan Add-on: $20 (limit 1 per player)</p>\n
LOCATION:Ironwood Golf & Country Club 200 Golf Club Wynd Greenville\, NC 27834
UID:e.840.8894
SEQUENCE:3
DTSTAMP:20260421T031549Z
URL:https://business.greenvillenc.org/events/details/purple-gold-golf-open-09-07-2018-8894
END:VEVENT

END:VCALENDAR
