BEGIN:VCALENDAR
VERSION:2.0
PRODID:-//ChamberMaster//Event Calendar 2.0//EN
METHOD:PUBLISH
X-PUBLISHED-TTL:P3D
REFRESH-INTERVAL:P3D
CALSCALE:GREGORIAN
BEGIN:VEVENT
DTSTART:20191018T120000Z
DTEND:20191018T220000Z
X-MICROSOFT-CDO-ALLDAYEVENT:FALSE
SUMMARY:Purple Gold Golf Open
DESCRIPTION:Enjoy a day on the links with fellow ECU supporters for a game of golf and plenty of prizes! With trophies awarded to the teams with the lowest gross score and lowest net score\, longest drive\, and closest-to-the-pin\, your swing may land you a bounty. Best of all\, it's for a good cause ECU scholarships!\n\n\n\nSince its establishment in 2005\, the ECU Alumni Association scholarship program has awarded 297 scholarships totaling over $432\,000. These scholarships are funded by contributions from generous alumni\, along with participants of the golf tournament in the fall and the Pirate Alumni Road Race and Fun Run in the spring.* Your participation in these fundraisers ensure the continuation and growth of our scholarship program.\n\n \nPlayer Pricing\n\nPlayer package includes breakfast\, lunch\, snacks and Pirate beverages\, green fees\, cart fee\, and complementary ECU Alumni gift. 9 am and 2 pm flight times available.\n\n\n\nPlayer Packages:\n\nPlayer:         $155.00\n\nMulligan Add-On:  $20.00\n\n(Players are able to purchase for $20 each\, one mulligan for the front nine and one mulligan for the back nine\; no tee busters will be available)\n\n\n\nRaffle Tickets:\n\nRaffle tickets are available for purchase online and the day of.\n\n1 Raffle Ticket:     $5.00\n\n5 Raffle Tickets:   $20.00\n\n15 Raffle Tickets: $40.00
X-ALT-DESC;FMTTYPE=text/html:Enjoy a day on the links with fellow ECU supporters for a game of golf and plenty of prizes! With trophies awarded to the teams with the lowest gross score and lowest net score\, longest drive\, and closest-to-the-pin\, your swing may land you a bounty. Best of all\, it&rsquo\;s for a good cause&mdash\;ECU scholarships!<br />\n<br />\nSince its establishment in 2005\, the ECU Alumni Association scholarship program has awarded 297 scholarships totaling over $432\,000. These scholarships are funded by contributions from generous alumni\, along with participants of the golf tournament in the fall and the Pirate Alumni Road Race and Fun Run in the spring.* Your participation in these fundraisers ensure the continuation and growth of our scholarship program.<br />\n&nbsp\;\n<h2><strong>Player Pricing</strong></h2>\n\n<p><span style="color:black\; font-family:helvetica\,sans-serif">Player package includes breakfast\, lunch\, snacks and Pirate beverages\, green fees\, cart fee\, and complementary ECU Alumni gift. 9 am and 2 pm flight times available.</span><br />\n<br />\n<em><strong>Player Packages:</strong></em></p>\n\n<p><strong><span style="color:black\; font-family:helvetica\,sans-serif">Player:&nbsp\;</span></strong><span style="color:#333333\; font-family:arial\,sans-serif\; font-size:10.0pt">&nbsp\;&nbsp\;&nbsp\;&nbsp\;&nbsp\;&nbsp\;&nbsp\;&nbsp\;</span><span style="color:black\; font-family:helvetica\,sans-serif">$155.00</span><br />\n<strong><span style="color:black\; font-family:helvetica\,sans-serif">Mulligan Add-On:&nbsp\;</span></strong><span style="color:#333333\; font-family:arial\,sans-serif\; font-size:10.0pt">&nbsp\;</span><span style="color:black\; font-family:helvetica\,sans-serif">$20.00</span><br />\n<em><span style="color:black\; font-family:helvetica\,sans-serif\; font-size:10.0pt">(Players are able to purchase for $20 each\, one mulligan for the front nine and one mulligan for the back nine\; no tee busters will be available)</span></em><br />\n<br />\n<strong><span style="color:black\; font-family:helvetica\,sans-serif">Raffle Tickets:</span></strong><br />\n<em><span style="color:black\; font-family:helvetica\,sans-serif">Raffle tickets are available for purchase online and the day of.</span></em><br />\n<strong><span style="color:black\; font-family:helvetica\,sans-serif">1 Raffle Ticket:&nbsp\;</span></strong><span style="color:black\; font-family:helvetica\,sans-serif">&nbsp\; &nbsp\; $5.00<br />\n<strong><span style="font-family:helvetica\,sans-serif">5 Raffle Tickets:&nbsp\;</span></strong>&nbsp\;&nbsp\;$20.00<br />\n<strong><span style="font-family:helvetica\,sans-serif">15 Raffle Tickets:&nbsp\;</span></strong>$40.00</span></p>\n
LOCATION:Ironwood Golf & Country Club 200 Golf Club Wynd Greenville\, NC 27834
UID:e.840.10344
SEQUENCE:3
DTSTAMP:20260420T092815Z
URL:https://business.greenvillenc.org/events/details/purple-gold-golf-open-09-06-2019-10344
END:VEVENT

END:VCALENDAR
