BEGIN:VCALENDAR
VERSION:2.0
PRODID:-//ChamberMaster//Event Calendar 2.0//EN
METHOD:PUBLISH
X-PUBLISHED-TTL:P3D
REFRESH-INTERVAL:P3D
CALSCALE:GREGORIAN
BEGIN:VEVENT
DTSTART:20170128T140000Z
DTEND:20170128T170000Z
X-MICROSOFT-CDO-ALLDAYEVENT:FALSE
SUMMARY:Polar Bear Plunge / Run
DESCRIPTION:"Brrrrrring" the family to run or walk the 5-K trail where the deer and the wildlife play. Then cool your heels at the finish-line with a dip\, or a splash\, in Eli's Pond. Or wear your best polar bear disguise while watching the runners then take the Big Bear Plunge at 10:00 am. Everyone can keep warm with breakfast snacks and hot cocoa around the campfire. You can register on line at www.runtheeast.com or on-site beginning at 8:00 am.
X-ALT-DESC;FMTTYPE=text/html:&ldquo\;Brrrrrring&rdquo\; the family to run or walk the 5-K trail where the deer and the wildlife play. Then cool your heels at the finish-line with a dip\, or a splash\, in Eli&rsquo\;s Pond. Or wear your best polar bear disguise while watching the runners then take the Big Bear Plunge at 10:00 am. Everyone can keep warm with breakfast snacks and hot cocoa around the campfire. You can register on line at www.runtheeast.com or on-site beginning at 8:00 am.
LOCATION:A Time for Science Nature and Science Learning Center 949 Contentnea Lane Grifton\, NC 28530
UID:e.840.7778
SEQUENCE:3
DTSTAMP:20260423T221856Z
URL:https://business.greenvillenc.org/events/details/polar-bear-plunge-run-01-28-2017-7778
END:VEVENT

END:VCALENDAR
