BEGIN:VCALENDAR
VERSION:2.0
PRODID:-//ChamberMaster//Event Calendar 2.0//EN
METHOD:PUBLISH
X-PUBLISHED-TTL:P3D
REFRESH-INTERVAL:P3D
CALSCALE:GREGORIAN
BEGIN:VEVENT
DTSTART:20140516T153000Z
DTEND:20140516T220000Z
X-MICROSOFT-CDO-ALLDAYEVENT:FALSE
SUMMARY:Play Golf in the Village Classic!
DESCRIPTION:Come support the Eastern Carolina Village & Farm Museum by playing golf in the 5th Annual Village Classic on May 16th\, 2014 at the Greenville Country Club - Brook Valley Course. There will be prizes\, food and fun! Deadline to register is May 12th.
X-ALT-DESC;FMTTYPE=text/html:Come support the Eastern Carolina Village &amp\; Farm Museum by playing golf in the 5th Annual Village Classic on May 16th\, 2014 at the Greenville Country Club - Brook Valley Course. There will be prizes\, food and fun! Deadline to register is May 12th.
LOCATION:Greenville Country Club at Brook Valley - 311 Oxford Rd.
UID:e.840.546
SEQUENCE:3
DTSTAMP:20260426T000300Z
URL:https://business.greenvillenc.org/events/details/play-golf-in-the-village-classic-05-16-2014-546
END:VEVENT

END:VCALENDAR
