BEGIN:VCALENDAR
VERSION:2.0
PRODID:-//ChamberMaster//Event Calendar 2.0//EN
METHOD:PUBLISH
X-PUBLISHED-TTL:P3D
REFRESH-INTERVAL:P3D
CALSCALE:GREGORIAN
BEGIN:VEVENT
DTSTART;VALUE=DATE:19971107
DTEND;VALUE=DATE:19971110
TRANSP:TRANSPARENT
X-MICROSOFT-CDO-ALLDAYEVENT:TRUE
SUMMARY:Planning Conference 97
DESCRIPTION:
X-ALT-DESC;FMTTYPE=text/html:
LOCATION:Sanderling Inn
UID:e.840.22
SEQUENCE:3
DTSTAMP:20260422T171839Z
URL:https://business.greenvillenc.org/events/details/planning-conference-97-11-07-1997-22
END:VEVENT

END:VCALENDAR
