BEGIN:VCALENDAR
VERSION:2.0
PRODID:-//ChamberMaster//Event Calendar 2.0//EN
METHOD:PUBLISH
X-PUBLISHED-TTL:P3D
REFRESH-INTERVAL:P3D
CALSCALE:GREGORIAN
BEGIN:VEVENT
DTSTART:20170218T180000Z
DTEND:20170218T200000Z
X-MICROSOFT-CDO-ALLDAYEVENT:FALSE
SUMMARY:Planetarium Shows
DESCRIPTION:Join us at A Time For Science for an hour of entertainment in the Chia-yu Li Planetarium.  Each planetarium show will include a night sky tour and a full dome movie. $5 per person\, per show.\n\n\n\n1:00pm - From the Earth to the Universe\n\n2:00pm - Two Small Pieces of Glasses
X-ALT-DESC;FMTTYPE=text/html:Join us at A Time For Science for an hour of entertainment in the Chia-yu Li Planetarium. &nbsp\;Each planetarium show will include a night sky tour and a full dome movie. $5 per person\, per show.<br />\n<br />\n1:00pm - From the Earth to the Universe<br />\n2:00pm - Two Small Pieces of Glasses
LOCATION:A Time for Science 949 Contentnea Lane Grifton\, NC 28530
UID:e.840.7849
SEQUENCE:3
DTSTAMP:20260423T193104Z
URL:https://business.greenvillenc.org/events/details/planetarium-shows-7849
END:VEVENT

END:VCALENDAR
