BEGIN:VCALENDAR
VERSION:2.0
PRODID:-//ChamberMaster//Event Calendar 2.0//EN
METHOD:PUBLISH
X-PUBLISHED-TTL:P3D
REFRESH-INTERVAL:P3D
CALSCALE:GREGORIAN
BEGIN:VEVENT
DTSTART:20170408T223000Z
DTEND:20170409T030000Z
X-MICROSOFT-CDO-ALLDAYEVENT:FALSE
SUMMARY:Pitt Heart Ball
DESCRIPTION:The Pitt Heart Ball is an Evening to Remember\n\nJoin us on Saturday\, April 8th 2017 for the Annual Black Tie Event in Greenville\, North Carolina at the Hilton Ball Room.  This event combines a strong mission of fighting heart disease and stroke with a fun\, energetic and exciting atmosphere.  \n\n\n\nPlease join us!\n\n\n\nEmail Kathleen Fleming\, Director of Development at kathleen.fleming@heart.org and learn how to get tickets and a table!  It will be an amazing night to remember!
X-ALT-DESC;FMTTYPE=text/html:<h1 style="text-align: center\;"><strong>The Pitt Heart Ball is an Evening to Remember</strong></h1>\n\n<div style="text-align: center\;">Join us on Saturday\, April 8th 2017 for the Annual Black Tie Event in Greenville\, North Carolina at the Hilton Ball Room. &nbsp\;This event combines a strong mission of fighting heart disease and stroke with a fun\, energetic and exciting atmosphere. &nbsp\;<br />\n<br />\nPlease join us!<br />\n<br />\nEmail Kathleen Fleming\, Director of Development at kathleen.fleming@heart.org and learn how to get tickets and a table! &nbsp\;It will be an amazing night to remember!</div>\n
LOCATION:Greenville Hilton Greenville\, North Carolina
UID:e.840.7807
SEQUENCE:3
DTSTAMP:20260423T164656Z
URL:https://business.greenvillenc.org/events/details/pitt-heart-ball-7807
END:VEVENT

END:VCALENDAR
