BEGIN:VCALENDAR
VERSION:2.0
PRODID:-//ChamberMaster//Event Calendar 2.0//EN
METHOD:PUBLISH
X-PUBLISHED-TTL:P3D
REFRESH-INTERVAL:P3D
CALSCALE:GREGORIAN
BEGIN:VEVENT
DTSTART;VALUE=DATE:20170425
DTEND;VALUE=DATE:20170508
TRANSP:TRANSPARENT
X-MICROSOFT-CDO-ALLDAYEVENT:TRUE
SUMMARY:Pitt HBA Parade of Homes
DESCRIPTION:Saturday April 29th - Sunday April 30th & Saturday May 6th- Sunday May 7th Pitt County Home Builder's Association will be hosting its 2017 Parade of Homes.\n\nHomes are open from 1-5 each day.
X-ALT-DESC;FMTTYPE=text/html:<span style="font-family:georgia\,serif">Saturday April 29th - Sunday April 30th &amp\; Saturday May 6th- Sunday May 7th Pitt County Home Builder&#39\;s Association will be hosting its 2017 Parade of Homes.<br />\nHomes are open from 1-5 each day. &nbsp\;</span><br />\n&nbsp\;
LOCATION:A map of the homes can be found at: https://www.google.com/maps/d/u/0/edit?hl=en&authuser=0&mid=1lpNaz-LUeNUWkvAjrynHieWdxJ0&ll=35.534957890625854%2C-77.23239719999998&z=12.
UID:e.840.8493
SEQUENCE:3
DTSTAMP:20260423T165136Z
URL:https://business.greenvillenc.org/events/details/pitt-hba-parade-of-homes-8493
END:VEVENT

END:VCALENDAR
