BEGIN:VCALENDAR
VERSION:2.0
PRODID:-//ChamberMaster//Event Calendar 2.0//EN
METHOD:PUBLISH
X-PUBLISHED-TTL:P3D
REFRESH-INTERVAL:P3D
CALSCALE:GREGORIAN
BEGIN:VEVENT
DTSTART;VALUE=DATE:20170522
DTEND;VALUE=DATE:20170523
TRANSP:TRANSPARENT
X-MICROSOFT-CDO-ALLDAYEVENT:TRUE
SUMMARY:Pitt Greenville Crime Stoppers 5th Annual Mike Bostic Memorial Golf Tournament
DESCRIPTION:This is the primary fund raiser for Pitt Greenville Crime Stoppers. Businesses\, organizations and individuals are invited to play in the tournament and/or sponsor a law enforcement team's participation. Costs are as follows:\n\nLaw Enforcement Team Sponsorship $500.00   (Includes Hole Sponsorship)\; Law enforcement teams play free but we encourage sponsorship of these teams\;\n\nGold Package   Includes 4 Person Team\, Hole Sponsorship\, and Mulligan Package $600.00\; \n\nSilver Package   Includes 4 Person Team and Mulligan Package $500.00\; \n\nBronze Package - 4 Person Team Entry Fee $420.00\; \n\nHole Sponsorship $100.00 (Your organization's name on a flag by a hole)\n\n\n\nEach player will receive a gift bag and lunch.   Prizes will be awarded at the conclusion of the Tourney.\n\nAll entries and payments need to be in by May 17\, 2017\n\nPlease make checks payable to Pitt-Greenville Crime Stoppers and mail to PO Box 528\, Greenville\, NC 27835
X-ALT-DESC;FMTTYPE=text/html:This is the primary fund raiser for Pitt Greenville Crime Stoppers. Businesses\, organizations and individuals are invited to play in the tournament and/or sponsor a law enforcement team&#39\;s participation. Costs are as follows:<br />\n<span style="font-size:10pt"><span style="font-family:times new roman\,serif">Law Enforcement Team Sponsorship <strong>$500.00</strong>&nbsp\;&nbsp\; (Includes Hole Sponsorship)\; Law enforcement teams play free but we encourage sponsorship of these teams\;<br />\nG</span></span><span style="font-size:10pt"><span style="font-family:times new roman\,serif">old Package &ndash\; Includes 4 Person Team\, Hole Sponsorship\, and Mulligan Package <strong>$600.00\; </strong></span></span><br />\n<span style="font-size:10pt"><span style="font-family:times new roman\,serif">Silver Package &ndash\; Includes 4 Person Team and Mulligan Package <strong>$500.00\; </strong></span></span><br />\n<span style="font-size:10pt"><span style="font-family:times new roman\,serif">Bronze Package - 4 Person Team Entry Fee <strong>$420.00\; </strong></span></span><br />\n<span style="font-size:10pt"><span style="font-family:times new roman\,serif">Hole Sponsorship <strong>$100.00 </strong>(Your organization&#39\;s name on a flag by a hole)</span></span><br />\n<br />\n<span style="font-size:10pt"><span style="font-family:times new roman\,serif">Each player will receive a gift bag and lunch.&nbsp\;&nbsp\; Prizes will be awarded at the conclusion of the Tourney.</span></span><br />\n<strong><span style="font-size:10pt"><span style="font-family:times new roman\,serif">All entries and payments need to be in by May 17\, 2017</span></span></strong><br />\n<strong><span style="font-size:10pt"><span style="font-family:times new roman\,serif">Please make checks payable to Pitt-Greenville Crime Stoppers and mail to PO Box 528\, Greenville\, NC 27835</span></span></strong><br />\n<br />\n&nbsp\;
LOCATION:Brook Valley Country Club
UID:e.840.8085
SEQUENCE:3
DTSTAMP:20260423T153116Z
URL:https://business.greenvillenc.org/events/details/pitt-greenville-crime-stoppers-5th-annual-mike-bostic-memorial-golf-tournament-8085
END:VEVENT

END:VCALENDAR
