BEGIN:VCALENDAR
VERSION:2.0
PRODID:-//ChamberMaster//Event Calendar 2.0//EN
METHOD:PUBLISH
X-PUBLISHED-TTL:P3D
REFRESH-INTERVAL:P3D
CALSCALE:GREGORIAN
BEGIN:VEVENT
DTSTART:20190702T220000Z
DTEND:20190703T000000Z
X-MICROSOFT-CDO-ALLDAYEVENT:FALSE
SUMMARY:Pitt County Meet & Greet w/ Allen Thomas!
DESCRIPTION:Join us for a Meet & Greet with 3rd District Congressional candidate Allen Thomas! This event will be held at our new office location - Diamond Insurance Agency\, Inc. 1414 Forbes Street\, Greenville\, NC 27858 from 6pm - 8pm. Light refreshments will be provided!
X-ALT-DESC;FMTTYPE=text/html:Join us for a Meet &amp\; Greet with 3rd District Congressional candidate Allen Thomas! This event will be held at our new office location - <strong>Diamond Insurance Agency\, Inc. 1<u>414 Forbes Street\, Greenville\, NC 27858</u></strong>&nbsp\;from 6pm - 8pm.&nbsp\;Light refreshments will be provided!&nbsp\;
LOCATION:Diamond Insurance Agency\, Inc. 1414 Forbes Street\, Greenville\, NC 27858
UID:e.840.10191
SEQUENCE:3
DTSTAMP:20260420T134216Z
URL:https://business.greenvillenc.org/events/details/pitt-county-meet-greet-w-allen-thomas-10191
END:VEVENT

END:VCALENDAR
