BEGIN:VCALENDAR
VERSION:2.0
PRODID:-//ChamberMaster//Event Calendar 2.0//EN
METHOD:PUBLISH
X-PUBLISHED-TTL:P3D
REFRESH-INTERVAL:P3D
CALSCALE:GREGORIAN
BEGIN:VEVENT
DTSTART;VALUE=DATE:20170221
DTEND;VALUE=DATE:20170222
TRANSP:TRANSPARENT
X-MICROSOFT-CDO-ALLDAYEVENT:TRUE
SUMMARY:Pitt County Council on Aging Travel Informational Meeting
DESCRIPTION:Informational meeting about upcoming travel opportunities.
X-ALT-DESC;FMTTYPE=text/html:Informational meeting about upcoming travel opportunities.
LOCATION:4551 County Home Road Greenville\, NC 27858
UID:e.840.7819
SEQUENCE:3
DTSTAMP:20260423T194114Z
URL:https://business.greenvillenc.org/events/details/pitt-county-council-on-aging-travel-informational-meeting-7819
END:VEVENT

END:VCALENDAR
