BEGIN:VCALENDAR
VERSION:2.0
PRODID:-//ChamberMaster//Event Calendar 2.0//EN
METHOD:PUBLISH
X-PUBLISHED-TTL:P3D
REFRESH-INTERVAL:P3D
CALSCALE:GREGORIAN
BEGIN:VEVENT
DTSTART;VALUE=DATE:20170823
DTEND;VALUE=DATE:20170911
TRANSP:TRANSPARENT
X-MICROSOFT-CDO-ALLDAYEVENT:TRUE
SUMMARY:Pitt County Coalition on Substance Abuse to Host Winterville STOP Series
DESCRIPTION:Winterville    Stop series\n\nStop The Opioid Pandemic\n\n\n\nPitt County Coalition on Substance Abuse Hosts STOP SERIES at the Winterville Church of Christ   745 Davenport Farm Road\, Winterville\, NC\n\nSeptember 10th\, 2017 from 4-6 pm\n\n \nWinterville\, NC   The Pitt County Coalition on Substance Abuse collaborates with the Vidant Health Foundation and the Pitt County Sheriff's Department to host upcoming STOP Series. The STOP series is a one-time session that strives to educate the community on different aspects of opioids. The three topics that will be presented are Opioids 101\, Personal Stories\, and Current Trends.  Opioids 101 will answer the questions: what are opioids\, how do they help with pain\, why are they so addictive\, what about genetics\, and what else can be used to console pain? With the Personal Stories\, you will hear presentations from those who have personal experience with battling addiction and from family or friends who have experienced this battle with their loved ones.  During the Current Trends\, you will hear from local law enforcement about the Good Samaritan Law\, Narcan\, current law enforcement efforts\, and learn more about harm reduction. Dinner will be provided to all in attendance of the event.\n\n \n\n"46 Americans die every day from prescription drug overdoses. That's almost two deaths an hour\, or 17\,000 annually."\n\n \n\n \n\nTo combat this\, the Pitt County Coalition on Substance Abuse is hosting the STOP Series to promote PCCSA's efforts of education and advocacy throughout the community.  The STOP Series is designed to raise awareness of the opioid pandemic\, and to bring community members together. \n\n \n\nAbout PCCSA\n\nThe Pitt County Coalition on Substance Abuse (PCCSA) was established out of the Eastern North Carolina Council on Substance Abuse (ENCCSA) in the fall of 2002 as a new sector of the community battling against substance abuse. PCCSA is comprised of individuals\, members of various agencies and organizations in Pitt County that provide prevention\, treatment and enforcement services for Pitt County residents of all ages. Parents\, youth\, and members of the recovering community are members of the PCCSA. The media\, faith-based and business communities\, civic and volunteer groups\, government officials\, and other organizations involved in reducing substance abuse are represented on the Coalition.\n\n \n\nThe Pitt County Coalition on Substance Abuse is a 501(c)(3) non-profit dedicated to bringing about a community where youth reject substance use\, adults utilize low-risk choices regarding substance use\, and treatment services are available to those in need.\n\n \n\nFor more information about PCCSA\, please visit: www.pccsa.org or call (252) 328- 2827.
X-ALT-DESC;FMTTYPE=text/html:<div style="text-align: center\;"><strong><span style="font-size:20.0pt">Winterville</span></strong><strong><span style="font-size:12.0pt"> &ndash\;&nbsp\; </span></strong><strong><em><span style="font-size:20.0pt">Stop series</span></em></strong><br />\n<span style="font-size:16px"><strong>S</strong>top <strong>T</strong>he <strong>O</strong>pioid <strong>P</strong>andemic</span><br />\n<br />\n<span style="font-size:12.0pt">Pitt County Coalition on Substance Abuse Hosts STOP SERIES at the Winterville Church of Christ &ndash\; 745 Davenport Farm Road\, Winterville\, NC</span><br />\n<span style="font-size:12.0pt">September 10<sup>th</sup>\, 2017 from 4-6 pm</span><br />\n&nbsp\;</div>\n<span style="font-size:12.0pt">Winterville\, NC &ndash\; The Pitt County Coalition on Substance Abuse collaborates with the Vidant Health Foundation and the Pitt County Sheriff&rsquo\;s Department to host upcoming STOP Series. The STOP series is a one-time session that strives to educate the community on different aspects of opioids. The three topics that will be presented are Opioids 101\, Personal Stories\, and Current Trends.&nbsp\; Opioids 101 will answer the questions: what are opioids\, how do they help with pain\, why are they so addictive\, what about genetics\, and what else can be used to console pain? With the Personal Stories\, you will hear presentations from those who have personal experience with battling addiction and from family or friends who have experienced this battle with their loved ones.&nbsp\; During the Current Trends\, you will hear from local law enforcement about the Good Samaritan Law\, Narcan\, current law enforcement efforts\, and learn more about harm reduction. Dinner will be provided to all in attendance of the event.</span><br />\n&nbsp\;<br />\n<em><span style="font-size:12.0pt">&ldquo\;46 Americans die every day from prescription drug overdoses. That&rsquo\;s almost two deaths an hour\, or 17\,000 annually.&rdquo\;</span></em><br />\n&nbsp\;<br />\n&nbsp\;<br />\n<span style="font-size:12.0pt">To combat this\, the Pitt County Coalition on Substance Abuse is hosting the STOP Series to promote PCCSA&rsquo\;s efforts of education and advocacy throughout the community.&nbsp\; The STOP Series is designed to raise awareness of the opioid pandemic\, and to bring community members together. </span><br />\n&nbsp\;<br />\n<strong><span style="font-size:12.0pt">About PCCSA</span></strong><br />\n<span style="font-size:12.0pt">The Pitt County Coalition on Substance Abuse (PCCSA) was established out of the Eastern North Carolina Council on Substance Abuse (ENCCSA) in the fall of 2002 as a new sector of the community battling against substance abuse. PCCSA is comprised of individuals\, members of various agencies and organizations in Pitt County that provide prevention\, treatment and enforcement services for Pitt County residents of all ages. Parents\, youth\, and members of the recovering community are members of the PCCSA. The media\, faith-based and business communities\, civic and volunteer groups\, government officials\, and other organizations involved in reducing substance abuse are represented on the Coalition.</span><br />\n&nbsp\;<br />\n<span style="font-size:12.0pt">The Pitt County Coalition on Substance Abuse is a 501(c)(3) non-profit dedicated to bringing about a community where youth reject substance use\, adults utilize low-risk choices regarding substance use\, and treatment services are available to those in need.</span><br />\n&nbsp\;<br />\n<span style="font-size:12.0pt">For more information about PCCSA\, please visit: </span><a href="http://www.pccsa.org"><span style="font-size:12.0pt">www.pccsa.org</span></a><span style="font-size:12.0pt"> or call (252) 328- 2827.</span><br />\n&nbsp\;
LOCATION:Location: Winterville Church of Christ 745 Davenport Farm Road\, Winterville\, NC 28590
UID:e.840.8653
SEQUENCE:3
DTSTAMP:20260423T091849Z
URL:https://business.greenvillenc.org/events/details/pitt-county-coalition-on-substance-abuse-to-host-winterville-stop-series-8653
END:VEVENT

END:VCALENDAR
