BEGIN:VCALENDAR
VERSION:2.0
PRODID:-//ChamberMaster//Event Calendar 2.0//EN
METHOD:PUBLISH
X-PUBLISHED-TTL:P3D
REFRESH-INTERVAL:P3D
CALSCALE:GREGORIAN
BEGIN:VEVENT
DTSTART;VALUE=DATE:20170221
DTEND;VALUE=DATE:20170322
TRANSP:TRANSPARENT
X-MICROSOFT-CDO-ALLDAYEVENT:TRUE
SUMMARY:Pitt County Coalition on Substance Abuse Host Winterville STOP Series
DESCRIPTION:Pitt County Coalition on Substance Abuse Hosts STOP Series at the Winterville Community Center\, on Tuesday\, March 21st\, 2017 from 6-8:00 pm.\n\n\nPitt County Coalition on Substance Abuse collaborates with the Vidant Health Foundation and the Pitt County Sheriff's Department to host STOP Series.  The STOP series is a one-time session that speaks on different aspects of opioids.\n\n\n\nThe three parts that will be presented on are Opioids 101\, Personal Stories\, and Current Trends.  Opioids 101 will answer the questions: what are opioids\, how do they help with pain\, why are they so addictive\, what about genetics\, and what else can be used to console pain.\n\n\n\nWith the Personal Stories\, you will hear presentations from those who have personal experience with battling addiction and from family or friends who have experienced this battle with their loved ones.  During the Current Trends\, you will hear from local law enforcement about the Good Samaritan Law\, Narcan\, law enforcement efforts\, and learn about harm reduction.  There will also be exhibitors there if anyone has questions such as what to expect from treatment and how you can help when your loved one is in treatment. Dinner will be provided to all in attendance of the event.
X-ALT-DESC;FMTTYPE=text/html:<div style="text-align: center\;"><span style="font-size:12.0pt"><strong>Pitt County Coalition on Substance Abuse Hosts STOP Series at the Winterville Community Center\, on Tuesday\, March 21<sup>st</sup>\, 2017 from 6-8:00 pm</strong>.</span></div>\n<br />\n<span style="font-size:12.0pt">Pitt County Coalition on Substance Abuse collaborates with the Vidant Health Foundation and the Pitt County Sheriff&rsquo\;s Department to host STOP Series.&nbsp\; The STOP series is a one-time session that speaks on different aspects of opioids.<br />\n<br />\nThe three parts that will be presented on are Opioids 101\, Personal Stories\, and Current Trends.&nbsp\; Opioids 101 will answer the questions: what are opioids\, how do they help with pain\, why are they so addictive\, what about genetics\, and what else can be used to console pain.<br />\n<br />\nWith the Personal Stories\, you will hear presentations from those who have personal experience with battling addiction and from family or friends who have experienced this battle with their loved ones.&nbsp\; During the Current Trends\, you will hear from local law enforcement about the Good Samaritan Law\, Narcan\, law enforcement efforts\, and learn about harm reduction.&nbsp\; There will also be exhibitors there if anyone has questions such as what to expect from treatment and how you can help when your loved one is in treatment. Dinner will be provided to all in attendance of the event.</span>
LOCATION:Winterville Community Room\, 2593 Railroad Street\, Winterville\, NC 28590
UID:e.840.8062
SEQUENCE:3
DTSTAMP:20260423T193956Z
URL:https://business.greenvillenc.org/events/details/pitt-county-coalition-on-substance-abuse-host-winterville-stop-series-8062
END:VEVENT

END:VCALENDAR
