BEGIN:VCALENDAR
VERSION:2.0
PRODID:-//ChamberMaster//Event Calendar 2.0//EN
METHOD:PUBLISH
X-PUBLISHED-TTL:P3D
REFRESH-INTERVAL:P3D
CALSCALE:GREGORIAN
BEGIN:VEVENT
DTSTART;VALUE=DATE:20170208
DTEND;VALUE=DATE:20170212
TRANSP:TRANSPARENT
X-MICROSOFT-CDO-ALLDAYEVENT:TRUE
SUMMARY:Pitt County Coalition on Substance Abuse - Dinner of Hope
DESCRIPTION:On February 11\, 2017\, the Pitt County Coalition on Substance (PCCSA) will host the 2nd annual Dinner of Hope in the Grand-Ballroom at the Greenville Holiday Inn. All proceeds will go towards reducing opiate abuse and underage drinking in Pitt County through our coalition's community education and our Youth Team activities focused on preventative education sessions and advocacy.  Tickets for the fundraiser event are $30 and are available through the Dinner of Hope Facebook event page via EventBrite. Tickets are also available by calling the PCCSA office phone number at 252-328-2827. Ticket purchases include dinner\, a live musical performance from the East Carolina Jazz Band\, and also a presentation from the star of Healing Neen\, Tonier "Neen" Cain. Neen will give her presentation describing her past experiences while being incarcerated 83 times and how she came to be an advocate for others whom are addicted to drugs. Prescription drug abuse causes one death every 19 minutes in the US and underage drinking results in one death a week in North Carolina\; we want to reduce these numbers to save our youth and family members. When we work together\, we can make a difference! To learn more about this event and where to purchase tickets follow these links: https://www.facebook.com/events/241125956313958/ https://pccsa-dinner-of-hope.eventbrite.com. To learn more about our guest speaker Neen\, please follow this link\, http://healingneen.com/.
X-ALT-DESC;FMTTYPE=text/html:On February 11\, 2017\, the Pitt County Coalition on Substance (PCCSA) will host the 2nd annual <em>Dinner of Hope</em> in the Grand-Ballroom at the Greenville Holiday Inn. All proceeds will go towards reducing opiate abuse and underage drinking in Pitt County through our coalition&rsquo\;s community education and our Youth Team activities focused on preventative education sessions and advocacy.&nbsp\; Tickets for the fundraiser event are $30 and are available through the <em>Dinner of Hope</em> Facebook event page via EventBrite. Tickets are also available by calling the PCCSA office phone number at 252-328-2827. Ticket purchases include dinner\, a live musical performance from the East Carolina Jazz Band\, and also a presentation from the star of Healing Neen\, Tonier &quot\;Neen&quot\; Cain. Neen will give her presentation describing her past experiences while being incarcerated 83 times and how she came to be an advocate for others whom are addicted to drugs. Prescription drug abuse causes one death every 19 minutes in the US and underage drinking results in one death a week in North Carolina\; we want to reduce these numbers to save our youth and family members. When we work together\, we can make a difference! To learn more about this event and where to purchase tickets follow these links: https://www.facebook.com/events/241125956313958/ https://pccsa-dinner-of-hope.eventbrite.com. To learn more about our guest speaker Neen\, please follow this link\, http://healingneen.com/.
LOCATION:The Grand-ballroom of the Greenville Holiday Inn. 203 Greenville Blvd SW\, Greenville\, NC 27834
UID:e.840.7846
SEQUENCE:3
DTSTAMP:20260423T193823Z
URL:https://business.greenvillenc.org/events/details/pitt-county-coalition-on-substance-abuse-dinner-of-hope-7846
END:VEVENT

END:VCALENDAR
