BEGIN:VCALENDAR
VERSION:2.0
PRODID:-//ChamberMaster//Event Calendar 2.0//EN
METHOD:PUBLISH
X-PUBLISHED-TTL:P3D
REFRESH-INTERVAL:P3D
CALSCALE:GREGORIAN
BEGIN:VEVENT
DTSTART:20180210T230000Z
DTEND:20180211T020000Z
X-MICROSOFT-CDO-ALLDAYEVENT:FALSE
SUMMARY:Pitt County Coalition on Substance Abuse 3rd Annual Dinner of Hope Fundraising Gala
DESCRIPTION:On February 10\, 2018\, the Pitt County Coalition on Substance Abuse will host it's 3rd annual Dinner of Hope at 400 St. Andrews in Greenville\, NC. With underage drinking an ever-present problem and an increase in the number of deaths related to drug overdoses\, support from the community is essential to have a positive impact on Pitt County when addressing substance misuse issues. PCCSA seeks to educate the community about topics such as opioid addiction\, youth alcohol consumption\, and resources for addiction services. PCCSA members are leaders in Pitt County at addressing these issues in hopes of reducing the stigma associated with prevention and addiction.\n\nTickets for the Dinner of Hope are available through EventBrite or you can call the PCCSA office at 252-328-2827. Ticket purchase includes dinner\, live music\, and presentation by guest speaker Representative Greg Murphy and Diannee Glenn ( a mothers story)\n\nWhen we work together\, we can make a difference! We hope to see you there! In the event that you cannot attend\, please consider donating to our coalition on our website.
X-ALT-DESC;FMTTYPE=text/html:<div>\n<div>\n<p>On February 10\, 2018\, the Pitt County Coalition on Substance Abuse will host it&#39\;s 3rd annual Dinner of Hope at 400 St. Andrews in Greenville\, NC. With underage drinking an ever-present problem and an increase in the number of deaths related to drug overdoses\, support from the community is essential to have a positive impact on Pitt County when addressing substance misuse issues. PCCSA seeks to educate the community about topics such as opioid addiction\, youth alcohol consumption\, and resources for addiction services. PCCSA members are leaders in Pitt County at addressing these issues in hopes of reducing the stigma associated with prevention and addiction.</p>\n\n<p>Tickets for the Dinner of Hope are available through EventBrite or you can call the PCCSA office at 252-328-2827. Ticket purchase includes dinner\, live music\, and presentation by guest speaker Representative Greg Murphy and Diannee Glenn ( a mothers story)</p>\n\n<p>When we work together\, we can make a difference! We hope to see you there! In the event that you cannot attend\, please consider donating to our coalition on our <a href="http://pccsa.org" rel="noopener noreferrer nofollow" target="_blank">website</a>.</p>\n</div>\n</div>\n
LOCATION:400 Saint Andrews Drive\, Greenville NC 27858
UID:e.840.8697
SEQUENCE:3
DTSTAMP:20260423T015833Z
URL:https://business.greenvillenc.org/events/details/pitt-county-coalition-on-substance-abuse-3rd-annual-dinner-of-hope-fundraising-gala-8697
END:VEVENT

END:VCALENDAR
