BEGIN:VCALENDAR
VERSION:2.0
PRODID:-//ChamberMaster//Event Calendar 2.0//EN
METHOD:PUBLISH
X-PUBLISHED-TTL:P3D
REFRESH-INTERVAL:P3D
CALSCALE:GREGORIAN
BEGIN:VEVENT
DTSTART:20170308T000000Z
DTEND:20170308T020000Z
X-MICROSOFT-CDO-ALLDAYEVENT:FALSE
SUMMARY:Pitt Community College Symphony Orchestra Winter Concert
DESCRIPTION:The Pitt Community College Symphony Orchestra is presenting their Winter Concert on March 7th at 7:00 pm in Reimage Church (3950 Victory Lane\, Winterville).  This concert is free\, but donations will be accepted.  The PCCSO will be performing works by Mozart (Marriage of Figaro Overture and Eine Klein Nachtmusik)\, Beethoven (1st mvt from Symphony #6)\, Richard Rogers (Victory at Sea)\, John Williams (March from 1941)\, and several pieces that feature the Winds\, Brass\, and Percussion sections of the Symphony.  This should be a great concert full of music that should please every listening palette.  For more information\, please contact R. Michael Stephenson at (252) 493-7493 or rstephenson@email.pittcc.edu.
X-ALT-DESC;FMTTYPE=text/html:<span style="font-size:12pt"><span style="font-family:calibri">The <strong>Pitt Community College Symphony Orchestra</strong> is presenting their Winter Concert on <strong>March 7<sup>th</sup> at 7:00 pm in Reimage Church</strong> (3950 Victory Lane\, Winterville).&nbsp\; This concert is <strong>free</strong>\, but donations will be accepted.&nbsp\; The PCCSO will be performing works by <strong>Mozart</strong> (<em>Marriage of Figaro Overture </em>and <em>Eine Klein Nachtmusik</em>)\, <strong>Beethoven</strong> (1<sup>st</sup> mvt from <em>Symphony #6</em>)\, <strong>Richard Rogers</strong> (<em>Victory at Sea</em><strong>)\, John Williams</strong> (<em>March from </em>1941)\, and several pieces that feature the Winds\, Brass\, and Percussion sections of the Symphony.&nbsp\; This should be a great concert full of music that should please every listening palette.&nbsp\; For more information\, please contact R. Michael Stephenson at (252) 493-7493 or </span><a href="mailto:rstephenson@email.pittcc.edu"><span style="font-family:calibri"><span style="color:#0563c1">rstephenson@email.pittcc.edu</span></span></a><span style="font-family:calibri">.</span></span>
LOCATION:Reimage Church - 3950 Victory Lane\, Winterville
UID:e.840.7856
SEQUENCE:3
DTSTAMP:20260423T182458Z
URL:https://business.greenvillenc.org/events/details/pitt-community-college-symphony-orchestra-winter-concert-7856
END:VEVENT

END:VCALENDAR
