BEGIN:VCALENDAR
VERSION:2.0
PRODID:-//ChamberMaster//Event Calendar 2.0//EN
METHOD:PUBLISH
X-PUBLISHED-TTL:P3D
REFRESH-INTERVAL:P3D
CALSCALE:GREGORIAN
BEGIN:VEVENT
DTSTART:20171202T130000Z
DTEND:20171202T160000Z
X-MICROSOFT-CDO-ALLDAYEVENT:FALSE
SUMMARY:Pitt Community College Adult 1 Stop Day
DESCRIPTION:Become a Pitt Community College student ALL-IN-ONE DAY! Prospective adult learners can apply and be admitted to PCC on the spot\, receive assistance with submitting FAFSA\, complete a placement test\, attend a New Student Orientation session\, and register for courses: all in the same day. Prospective students interested in completing a degree through evening and weekend courses are especially encouraged to attend. Call 252.493.7380 for more information.
X-ALT-DESC;FMTTYPE=text/html:Become a Pitt Community College student ALL-IN-ONE DAY! Prospective adult learners can apply and be admitted to PCC on the spot\, receive assistance with submitting FAFSA\, complete a placement test\, attend a New Student Orientation session\, and register for courses: all in the same day. <strong><em>Prospective students interested in completing a degree through evening and weekend courses are especially encouraged to attend.</em></strong> Call 252.493.7380 for more information.
LOCATION:Pitt Community College Goess Student Center Room 120
UID:e.840.8678
SEQUENCE:3
DTSTAMP:20260423T050617Z
URL:https://business.greenvillenc.org/events/details/pitt-community-college-adult-1-stop-day-12-02-2017-8678
END:VEVENT

END:VCALENDAR
