BEGIN:VCALENDAR
VERSION:2.0
PRODID:-//ChamberMaster//Event Calendar 2.0//EN
METHOD:PUBLISH
X-PUBLISHED-TTL:P3D
REFRESH-INTERVAL:P3D
CALSCALE:GREGORIAN
BEGIN:VEVENT
DTSTART:20170331T220000Z
DTEND:20170401T020000Z
X-MICROSOFT-CDO-ALLDAYEVENT:FALSE
SUMMARY:Pirate Treasure Night
DESCRIPTION:Riley's Army is hosting our  2017  "Pirate Treasure Night" with East Carolina University's Strength & Conditioning  Coach Jeff Connors and WNCT's Maria Satira serving as the guests of honor\, Pirate Radio's Troy Dreyfus and WNCT's Brian Bailey as our emcees. The event will be a night to remember\, complete with dinner\, music\, raffle drawing\, silent auction\, and reverse raffle drawing with a grand prize up to $5\,000! We are expecting an evening of fun\, entertainment\, and socializing with over 500 community members at the Greenville Hilton on Friday March 31st 2017.  \n\n \n\nWe are in need of donations for our silent auction portion of the evening.  We will accept any donation- gift certificate\, item from your business\, or a basket of items as a silent auction item.  All donors will receive a ticket to the dinner event and will be mentioned on our social media outlets. Riley's Army is an approved 501(c)3 charity and all donations are tax deductible as allowed by law. We are in need of sponsorships for the Pirate Treasure Night.  There are many ways you can be involved and partner with this event. Contact Kimber Stone at 919-608-8421 or kimber@rileysarmy.com for more information.\n\n\n\nYou may purchase tickets for $90 per couple at 692 Olive\, Riley's Army Office- 1801 Charles Blvd\, or www.eventbrite.com under Riley's Army Pirate Treasure Night.
X-ALT-DESC;FMTTYPE=text/html:<span style="font-size:11pt"><span style="font-family:calibri\,sans-serif">Riley&#39\;s Army&nbsp\;is hosting our&nbsp\; 2017 &nbsp\;&rdquo\;Pirate Treasure Night&rdquo\; with East Carolina University&rsquo\;s Strength &amp\; Conditioning&nbsp\; Coach Jeff Connors and WNCT&rsquo\;s Maria Satira serving as the guests of honor\, Pirate Radio&rsquo\;s Troy Dreyfus and WNCT&rsquo\;s Brian Bailey as our emcees. The&nbsp\;event will be a night to remember\, complete with dinner\, music\, raffle drawing\, silent auction\, and reverse raffle drawing with a grand prize up to $5\,000! We are expecting an evening of fun\, entertainment\, and socializing with over 500 community members at the Greenville Hilton on Friday March 31<sup>st</sup> 2017.&nbsp\; </span></span><br />\n&nbsp\;<br />\n<span style="font-size:10pt"><span style="font-family:calibri\,sans-serif">We are in need of donations for our silent auction portion of the evening.&nbsp\; We will accept any donation- gift certificate\, item from your business\, or a basket of items as a silent auction item.&nbsp\; <strong>All donors will receive a ticket to the dinner event and will be mentioned on our social media outlets</strong>. Riley&rsquo\;s Army is an approved 501(c)3 charity and all donations are tax deductible as allowed by law.&nbsp\;</span></span><strong><span style="font-size:10pt"><span style="font-family:calibri\,sans-serif">We are in need of sponsorships for the Pirate Treasure Night.&nbsp\; There are many ways you can be involved and partner with this event. Contact Kimber Stone at 919-608-8421 or kimber@rileysarmy.com for more information.<br />\n<br />\nYou may purchase tickets for $90 per couple at 692 Olive\, Riley&#39\;s Army Office- 1801 Charles Blvd\, or www.eventbrite.com under Riley&#39\;s Army Pirate Treasure Night.</span></span></strong><br />\n&nbsp\;
LOCATION:Hilton Greenville
UID:e.840.7805
SEQUENCE:3
DTSTAMP:20260423T193254Z
URL:https://business.greenvillenc.org/events/details/pirate-treasure-night-7805
END:VEVENT

END:VCALENDAR
