BEGIN:VCALENDAR
VERSION:2.0
PRODID:-//ChamberMaster//Event Calendar 2.0//EN
METHOD:PUBLISH
X-PUBLISHED-TTL:P3D
REFRESH-INTERVAL:P3D
CALSCALE:GREGORIAN
BEGIN:VEVENT
DTSTART:20170916T163000Z
DTEND:20170916T183000Z
X-MICROSOFT-CDO-ALLDAYEVENT:FALSE
SUMMARY:Pirate Game Day Tailgate - Virginia Tech vs. ECU
DESCRIPTION:Pirate Game Day Tailgate\n\nVirginia Tech vs. ECU\n\nVIP Member Appreciation Gift\n\n\n\nSaturday\, September 16\, 2017\n\nTailgate:  12:30-2:30 p.m. ET\n\nMembers in at 12:00 p.m.\n\nKick-off:  3:30 p.m.\n\nLocated at Johnson Soccer Stadium\n\n(adjacent to Clark-LeClair Stadium)\n\nGreenville\, NC 27858\n\nDo not miss out on the fun\, REGISTER online today!\nJoin fellow alumni and fans for tailgating fun before each home football game at ECU. Enjoy a variety of food from local restaurants\, beverages\, live music and entertainment\, door prizes and more. Our tailgates often get visits from the ECU Cheerleaders and PeeDee. Back by popular demand\, each tailgate will feature a craft brewery and one of their beers!\n\n\n\nRegistration includes food\, beverages\, entertainment\, and features the "Pirate Game Zone\," with life-sized tumbling towers\, Corn Hole\, Ladder Golf and 4 In-A-Row games. Attendance is limited\, and is available on a first-come\, first-served basis. Many Pirate Game Day Tailgates will sell out quickly\, so plan to register in advance. Registration at the door will only be offered if space is available.
X-ALT-DESC;FMTTYPE=text/html:<h1 style="text-align: center\;"><strong><span style="color:#4B0082">Pirate Game Day Tailgate</span></strong></h1>\n\n<h2 style="text-align: center\;"><strong>Virginia Tech vs. ECU</strong></h2>\n\n<div style="text-align: center\;">VIP Member Appreciation Gift<br />\n<br />\nSaturday\, September 16\, 2017<br />\nTailgate:&nbsp\; 12:30-2:30 p.m. ET<br />\nMembers in at 12:00 p.m.<br />\nKick-off:&nbsp\; 3:30 p.m.<br />\nLocated at Johnson Soccer Stadium<br />\n(adjacent to Clark-LeClair Stadium)<br />\nGreenville\, NC 27858</div>\n\n<h2 style="text-align: center\;">Do not miss out on the fun\, REGISTER online today!</h2>\nJoin fellow alumni and fans for tailgating fun before each home football game at ECU. Enjoy a variety of food from local restaurants\, beverages\, live music and entertainment\, door prizes and more. Our tailgates often get visits from the ECU Cheerleaders and PeeDee. Back by popular demand\, each tailgate will feature a craft brewery and one of their beers!<br />\n<br />\nRegistration includes food\, beverages\, entertainment\, and features the &quot\;Pirate Game Zone\,&quot\; with life-sized tumbling towers\, Corn Hole\, Ladder Golf and 4 In-A-Row games. Attendance is limited\, and is available on a first-come\, first-served basis. Many Pirate Game Day Tailgates will sell out quickly\, so plan to register in advance. Registration at the door will only be offered if space is available.
LOCATION:Located at Johnson Soccer Stadium (adjacent to Clark-LeClair Stadium) Greenville\, NC 27858
UID:e.840.8651
SEQUENCE:3
DTSTAMP:20260423T104257Z
URL:https://business.greenvillenc.org/events/details/pirate-game-day-tailgate-virginia-tech-vs-ecu-8651
END:VEVENT

END:VCALENDAR
