BEGIN:VCALENDAR
VERSION:2.0
PRODID:-//ChamberMaster//Event Calendar 2.0//EN
METHOD:PUBLISH
X-PUBLISHED-TTL:P3D
REFRESH-INTERVAL:P3D
CALSCALE:GREGORIAN
BEGIN:VEVENT
DTSTART;VALUE=DATE:20170930
DTEND;VALUE=DATE:20171001
TRANSP:TRANSPARENT
X-MICROSOFT-CDO-ALLDAYEVENT:TRUE
SUMMARY:Pirate Game Day Tailgate - USF vs. ECU (Legacy Tailgate)
DESCRIPTION:Pirate Game Day Tailgate\n\nUSF vs. ECU\n\nLegacy Tailgate\n\n\n\nSaturday\, September 30\, 2017\n\nTailgate:  TBA\n\nKick-off:  TBA\n\nLocated at Johnson Soccer Stadium\n\n(adjacent to Clark-LeClair Stadium)\n\nGreenville\, NC 27858\n\nDo not miss out on the fun\, REGISTER online today!\n\n\nJoin fellow alumni and fans for tailgating fun before each home football game at ECU. Enjoy a variety of food from local restaurants\, beverages\, live music and entertainment\, door prizes and more. Our tailgates often get visits from the ECU Cheerleaders and PeeDee. Back by popular demand\, each tailgate will feature a craft brewery and one of their beers!\n\n\n\nDuring the USF vs. ECU tailgate we are celebrating all ECU Legacies. Families with two or more generations of Pirates\, also including a current student\, are invited to a special Legacy tailgate experience.\n\n\n\nRegistration includes food\, beverages\, entertainment\, and features the "Pirate Game Zone\," with life-sized tumbling towers\, Corn Hole\, Ladder Golf and 4 In-A-Row games. Attendance is limited\, and is available on a first-come\, first-served basis. Many Pirate Game Day Tailgates will sell out quickly\, so plan to register in advance. Registration at the door will only be offered if space is available.
X-ALT-DESC;FMTTYPE=text/html:<h1 style="text-align: center\;"><span style="color:#4B0082"><strong>Pirate Game Day Tailgate</strong></span></h1>\n\n<h2 style="text-align: center\;"><span style="color:#4B0082"><strong>USF vs. ECU</strong></span></h2>\n\n<div style="text-align: center\;">Legacy Tailgate<br />\n<br />\nSaturday\, September 30\, 2017<br />\nTailgate:&nbsp\; TBA<br />\nKick-off:&nbsp\; TBA<br />\nLocated at Johnson Soccer Stadium<br />\n(adjacent to Clark-LeClair Stadium)<br />\nGreenville\, NC 27858</div>\n\n<h2 style="text-align: center\;"><span style="color:#4B0082">Do not miss out on the fun\, REGISTER online today!</span></h2>\n<br />\nJoin fellow alumni and fans for tailgating fun before each home football game at ECU. Enjoy a variety of food from local restaurants\, beverages\, live music and entertainment\, door prizes and more. Our tailgates often get visits from the ECU Cheerleaders and PeeDee. Back by popular demand\, each tailgate will feature a craft brewery and one of their beers!<br />\n<br />\nDuring the USF vs. ECU tailgate we are celebrating all ECU Legacies. Families with two or more generations of Pirates\, also including a current student\, are invited to a special Legacy tailgate experience.<br />\n<br />\nRegistration includes food\, beverages\, entertainment\, and features the &quot\;Pirate Game Zone\,&quot\; with life-sized tumbling towers\, Corn Hole\, Ladder Golf and 4 In-A-Row games. Attendance is limited\, and is available on a first-come\, first-served basis. Many Pirate Game Day Tailgates will sell out quickly\, so plan to register in advance. Registration at the door will only be offered if space is available.
LOCATION:Located at Johnson Soccer Stadium (adjacent to Clark-LeClair Stadium) Greenville\, NC 27858
UID:e.840.8652
SEQUENCE:3
DTSTAMP:20260423T091611Z
URL:https://business.greenvillenc.org/events/details/pirate-game-day-tailgate-usf-vs-ecu-legacy-tailgate-8652
END:VEVENT

END:VCALENDAR
