BEGIN:VCALENDAR
VERSION:2.0
PRODID:-//ChamberMaster//Event Calendar 2.0//EN
METHOD:PUBLISH
X-PUBLISHED-TTL:P3D
REFRESH-INTERVAL:P3D
CALSCALE:GREGORIAN
BEGIN:VEVENT
DTSTART:20170902T190000Z
DTEND:20170902T210000Z
X-MICROSOFT-CDO-ALLDAYEVENT:FALSE
SUMMARY:Pirate Game Day Tailgate - JMU vs. ECU
DESCRIPTION:Pirate Game Day Tailgate\n\nJMU vs. ECU\n\nVIP Member Appreciation Gift\n\n\n\nSaturday\, September 2\, 2017\n\nTailgate:  3:00-5:00 p.m. ET\n\nMembers in at 2:30 p.m.\n\nKick-off:  6:00 p.m.\n\nLocated at Johnson Soccer Stadium\n\n(adjacent to Clark-LeClair Stadium)\n\nGreenville\, NC 27858\n\nDo not miss out on the fun\, REGISTER online today!\n\n\nJoin fellow alumni and fans for tailgating fun before each home football game at ECU. Enjoy a variety of food from local restaurants\, beverages\, live music and entertainment\, door prizes and more. Our tailgates often get visits from the ECU Cheerleaders and PeeDee. Back by popular demand\, each tailgate will feature a craft brewery and one of their beers!\n\n\n\nRegistration includes food\, beverages\, entertainment\, and features the "Pirate Game Zone\," with life-sized tumbling towers\, Corn Hole\, Ladder Golf and 4 In-A-Row games. Attendance is limited\, and is available on a first-come\, first-served basis. Many Pirate Game Day Tailgates will sell out quickly\, so plan to register in advance. Registration at the door will only be offered if space is available.
X-ALT-DESC;FMTTYPE=text/html:<h1 style="text-align: center\;"><strong><span style="color:#4B0082">Pirate Game Day Tailgate</span></strong></h1>\n\n<h2 style="text-align: center\;"><span style="color:#4B0082">JMU vs. ECU</span></h2>\n\n<div style="text-align: center\;">VIP Member Appreciation Gift<br />\n<br />\nSaturday\, September 2\, 2017<br />\nTailgate:&nbsp\; 3:00-5:00 p.m. ET<br />\nMembers in at 2:30 p.m.<br />\nKick-off:&nbsp\; 6:00 p.m.<br />\nLocated at Johnson Soccer Stadium<br />\n(adjacent to Clark-LeClair Stadium)<br />\nGreenville\, NC 27858</div>\n\n<h2 style="text-align: center\;"><span style="color:#4B0082"><strong>Do not miss out on the fun\, REGISTER online today!</strong></span></h2>\n<br />\nJoin fellow alumni and fans for tailgating fun before each home football game at ECU. Enjoy a variety of food from local restaurants\, beverages\, live music and entertainment\, door prizes and more. Our tailgates often get visits from the ECU Cheerleaders and PeeDee. Back by popular demand\, each tailgate will feature a craft brewery and one of their beers!<br />\n<br />\nRegistration includes food\, beverages\, entertainment\, and features the &quot\;Pirate Game Zone\,&quot\; with life-sized tumbling towers\, Corn Hole\, Ladder Golf and 4 In-A-Row games. Attendance is limited\, and is available on a first-come\, first-served basis. Many Pirate Game Day Tailgates will sell out quickly\, so plan to register in advance. Registration at the door will only be offered if space is available.
LOCATION:Located at Johnson Soccer Stadium (adjacent to Clark-LeClair Stadium) Greenville\, NC 27858
UID:e.840.8650
SEQUENCE:3
DTSTAMP:20260423T091718Z
URL:https://business.greenvillenc.org/events/details/pirate-game-day-tailgate-jmu-vs-ecu-8650
END:VEVENT

END:VCALENDAR
